BEGIN:VCALENDAR
VERSION:2.0
PRODID:-//achurchnearyou.com//eventfeed//EN
CALSCALE:GREGORIAN
METHOD:PUBLISH
X-WR-TIMEZONE:UTC
BEGIN:VEVENT
SUMMARY:Annual Parochial Church Meeting for All Saints'
DTSTART:20250427T100000Z
DTEND:20250427T110000Z
DTSTAMP:20260419T183849Z
UID:11937792025-04-27 10:00:00+00:00achurchnearyou
CATEGORIES:
DESCRIPTION:You are invited to the APCM on Sunday 27 April 2025 at 11am in
  All Saints' to hear about the work of the church and to elect new churchw
 ardens and PCC members.  Please consider joining your PCC to help guide th
 e life of our churches. There are generally six meetings in a year. Nomina
 tion forms will be available at the back of our churches.  In addition\, a
  new electoral roll is being compiled.  Please contact your electoral roll
  officer and complete your form.
GEO:-2.768783;50.969265
LOCATION:All Saints'
URL:https://www.achurchnearyou.com/church/11008/service-and-events/events/
 1193779/
END:VEVENT
END:VCALENDAR
