BEGIN:VCALENDAR
VERSION:2.0
PRODID:-//achurchnearyou.com//eventfeed//EN
CALSCALE:GREGORIAN
METHOD:PUBLISH
X-WR-TIMEZONE:UTC
BEGIN:VEVENT
SUMMARY:Remembrance Sunday
DTSTART:20251109T105000Z
DTEND:20251109T115000Z
DTSTAMP:20260421T102521Z
UID:10904212025-11-09 10:50:00+00:00achurchnearyou
CATEGORIES:
DESCRIPTION:We'll gather together to pay our respects for those who serve\
 , have served\, been injured and given their lives in past or present wars
 . We especially think of the local people who died during World War 1 and 
 World War 2\, and we'll lay wreaths at the memorial to them\, after a time
  of silent reflection and remembrance. We'll then have a short service of 
 remembrance with hymns\, prayers and a short sermon. We hope that you are 
 able to join us as we pay our respects to those to whom we owe so much.
GEO:-2.679534;51.186958
LOCATION:Christ Church\, Coxley
URL:https://www.achurchnearyou.com/church/11040/service-and-events/events/
 1090421/
END:VEVENT
END:VCALENDAR
