BEGIN:VCALENDAR
VERSION:2.0
PRODID:-//achurchnearyou.com//eventfeed//EN
CALSCALE:GREGORIAN
METHOD:PUBLISH
X-WR-TIMEZONE:UTC
BEGIN:VEVENT
SUMMARY:Falling-Out & Making Up
DTSTART;TZID=Europe/London:20250918T193000
DTEND;TZID=Europe/London:20250918T203000
DTSTAMP:20260421T121609Z
UID:12168672025-09-18 19:30:00+01:00achurchnearyou
CATEGORIES:
DESCRIPTION:Join a small group to explore stories of fallings-out and maki
 ng up from the Old Testament. Each week we'll focus on a one work of art\,
  and hear the story of from the Bible. There'll be discussion throughout t
 he session\, making a really good space to explore your faith and art. Ple
 ase let us know if you'd like to attend by emailing Katrina: benadmin@chwc
 hurches.co.uk
LOCATION:TBC
URL:https://www.achurchnearyou.com/church/11040/service-and-events/events/
 1216867/
END:VEVENT
BEGIN:VEVENT
SUMMARY:Falling-Out & Making Up
DTSTART;TZID=Europe/London:20250925T193000
DTEND;TZID=Europe/London:20250925T203000
DTSTAMP:20260421T121609Z
UID:12168672025-09-25 19:30:00+01:00achurchnearyou
CATEGORIES:
DESCRIPTION:Join a small group to explore stories of fallings-out and maki
 ng up from the Old Testament. Each week we'll focus on a one work of art\,
  and hear the story of from the Bible. There'll be discussion throughout t
 he session\, making a really good space to explore your faith and art. Ple
 ase let us know if you'd like to attend by emailing Katrina: benadmin@chwc
 hurches.co.uk
LOCATION:TBC
URL:https://www.achurchnearyou.com/church/11040/service-and-events/events/
 1216867/
END:VEVENT
BEGIN:VEVENT
SUMMARY:Falling-Out & Making Up
DTSTART;TZID=Europe/London:20251016T193000
DTEND;TZID=Europe/London:20251016T203000
DTSTAMP:20260421T121609Z
UID:12168672025-10-16 19:30:00+01:00achurchnearyou
CATEGORIES:
DESCRIPTION:Join a small group to explore stories of fallings-out and maki
 ng up from the Old Testament. Each week we'll focus on a one work of art\,
  and hear the story of from the Bible. There'll be discussion throughout t
 he session\, making a really good space to explore your faith and art. Ple
 ase let us know if you'd like to attend by emailing Katrina: benadmin@chwc
 hurches.co.uk
LOCATION:TBC
URL:https://www.achurchnearyou.com/church/11040/service-and-events/events/
 1216867/
END:VEVENT
BEGIN:VEVENT
SUMMARY:Falling-Out & Making Up
DTSTART;TZID=Europe/London:20251023T193000
DTEND;TZID=Europe/London:20251023T203000
DTSTAMP:20260421T121609Z
UID:12168672025-10-23 19:30:00+01:00achurchnearyou
CATEGORIES:
DESCRIPTION:Join a small group to explore stories of fallings-out and maki
 ng up from the Old Testament. Each week we'll focus on a one work of art\,
  and hear the story of from the Bible. There'll be discussion throughout t
 he session\, making a really good space to explore your faith and art. Ple
 ase let us know if you'd like to attend by emailing Katrina: benadmin@chwc
 hurches.co.uk
LOCATION:TBC
URL:https://www.achurchnearyou.com/church/11040/service-and-events/events/
 1216867/
END:VEVENT
END:VCALENDAR
