BEGIN:VCALENDAR
VERSION:2.0
PRODID:-//achurchnearyou.com//eventfeed//EN
CALSCALE:GREGORIAN
METHOD:PUBLISH
X-WR-TIMEZONE:UTC
BEGIN:VEVENT
SUMMARY:Paint a Patchwork - August Art Project
DTSTART;TZID=Europe/London:20250807T143000
DTEND;TZID=Europe/London:20250807T160000
DTSTAMP:20260421T154027Z
UID:9612872025-08-07 14:30:00+01:00achurchnearyou
CATEGORIES:
DESCRIPTION:August’s Art Project is back at Coxley Church during the Com
 munity Cafe on Thursday afternoons in August. This year we’re trying out
  a Paint a Patchwork project inspired by artist Hannah Dunnett\, which is 
 for all-ages\, free\, and can be completed over multiple sessions\, or you
  can start it and then finish it at home.\n\nCome along and have a go at c
 reating your very own painted patchwork of inspiration and love.
GEO:-2.679534;51.186958
LOCATION:Christ Church\, Coxley
URL:https://www.achurchnearyou.com/church/11040/service-and-events/events/
 961287/
END:VEVENT
BEGIN:VEVENT
SUMMARY:Paint a Patchwork - August Art Project
DTSTART;TZID=Europe/London:20250814T143000
DTEND;TZID=Europe/London:20250814T160000
DTSTAMP:20260421T154027Z
UID:9612872025-08-14 14:30:00+01:00achurchnearyou
CATEGORIES:
DESCRIPTION:August’s Art Project is back at Coxley Church during the Com
 munity Cafe on Thursday afternoons in August. This year we’re trying out
  a Paint a Patchwork project inspired by artist Hannah Dunnett\, which is 
 for all-ages\, free\, and can be completed over multiple sessions\, or you
  can start it and then finish it at home.\n\nCome along and have a go at c
 reating your very own painted patchwork of inspiration and love.
GEO:-2.679534;51.186958
LOCATION:Christ Church\, Coxley
URL:https://www.achurchnearyou.com/church/11040/service-and-events/events/
 961287/
END:VEVENT
BEGIN:VEVENT
SUMMARY:Paint a Patchwork - August Art Project
DTSTART;TZID=Europe/London:20250821T143000
DTEND;TZID=Europe/London:20250821T160000
DTSTAMP:20260421T154027Z
UID:9612872025-08-21 14:30:00+01:00achurchnearyou
CATEGORIES:
DESCRIPTION:August’s Art Project is back at Coxley Church during the Com
 munity Cafe on Thursday afternoons in August. This year we’re trying out
  a Paint a Patchwork project inspired by artist Hannah Dunnett\, which is 
 for all-ages\, free\, and can be completed over multiple sessions\, or you
  can start it and then finish it at home.\n\nCome along and have a go at c
 reating your very own painted patchwork of inspiration and love.
GEO:-2.679534;51.186958
LOCATION:Christ Church\, Coxley
URL:https://www.achurchnearyou.com/church/11040/service-and-events/events/
 961287/
END:VEVENT
BEGIN:VEVENT
SUMMARY:Paint a Patchwork - August Art Project
DTSTART;TZID=Europe/London:20250828T143000
DTEND;TZID=Europe/London:20250828T160000
DTSTAMP:20260421T154027Z
UID:9612872025-08-28 14:30:00+01:00achurchnearyou
CATEGORIES:
DESCRIPTION:August’s Art Project is back at Coxley Church during the Com
 munity Cafe on Thursday afternoons in August. This year we’re trying out
  a Paint a Patchwork project inspired by artist Hannah Dunnett\, which is 
 for all-ages\, free\, and can be completed over multiple sessions\, or you
  can start it and then finish it at home.\n\nCome along and have a go at c
 reating your very own painted patchwork of inspiration and love.
GEO:-2.679534;51.186958
LOCATION:Christ Church\, Coxley
URL:https://www.achurchnearyou.com/church/11040/service-and-events/events/
 961287/
END:VEVENT
END:VCALENDAR
