BEGIN:VCALENDAR
VERSION:2.0
PRODID:-//achurchnearyou.com//eventfeed//EN
CALSCALE:GREGORIAN
METHOD:PUBLISH
X-WR-TIMEZONE:UTC
BEGIN:VEVENT
SUMMARY:Easter Holy Communion
DTSTART:20250420T083000Z
DTEND:20250420T093000Z
DTSTAMP:20260419T220806Z
UID:4554972025-04-20 08:30:00+00:00achurchnearyou
CATEGORIES:
DESCRIPTION:A family Eucharist Service to start the Easter celebrations.  
 He is risen indeed\, Alleluia !
GEO:-2.67112;51.225535
LOCATION:St Mary Magdalene\, Wookey Hole
URL:https://www.achurchnearyou.com/church/11055/service-and-events/events/
 455497/
END:VEVENT
END:VCALENDAR
