BEGIN:VCALENDAR
VERSION:2.0
PRODID:-//achurchnearyou.com//eventfeed//EN
CALSCALE:GREGORIAN
METHOD:PUBLISH
X-WR-TIMEZONE:UTC
BEGIN:VEVENT
SUMMARY:Family Service
DTSTART:20250202T100000Z
DTEND:20250202T110000Z
DTSTAMP:20260419T220700Z
UID:11522562025-02-02 10:00:00+00:00achurchnearyou
CATEGORIES:
DESCRIPTION:Family Service
GEO:-2.381724;51.33698
LOCATION:Bath Combe Hay Church
URL:https://www.achurchnearyou.com/church/11084/service-and-events/events/
 1152256/
END:VEVENT
END:VCALENDAR
