BEGIN:VCALENDAR
VERSION:2.0
PRODID:-//achurchnearyou.com//eventfeed//EN
CALSCALE:GREGORIAN
METHOD:PUBLISH
X-WR-TIMEZONE:UTC
BEGIN:VEVENT
SUMMARY:Rogation Sunday walk (time TBC)
DTSTART:20250525T123000Z
DTEND:20250525T153000Z
DTSTAMP:20260419T164027Z
UID:11766912025-05-25 12:30:00+00:00achurchnearyou
CATEGORIES:
DESCRIPTION:TIME TBC \n\nAll are welcome to our annual Benefice Walk and P
 icnic!  This year’s host is North Stoke Parish.  Parking is available ei
 ther at the church\, or Peter Durman's house: Stone Cross\, North Stoke\, 
 BA1 9AS.  Toilet facilities are available in North Stoke Village Hall.\n\n
 The word ‘rogation’ comes from the Latin verb ‘rogare’ – to ask.
   Rogationtide is a time when churches pray for life and growth during the
  growing season time and asking for God’s blessings on emerging crops.
LOCATION:North Stoke
URL:https://www.achurchnearyou.com/church/11089/service-and-events/events/
 1176691/
END:VEVENT
END:VCALENDAR
