BEGIN:VCALENDAR
VERSION:2.0
PRODID:-//achurchnearyou.com//eventfeed//EN
CALSCALE:GREGORIAN
METHOD:PUBLISH
X-WR-TIMEZONE:UTC
BEGIN:VEVENT
SUMMARY:Easter Sunday Family Easter Egg Hunt
DTSTART:20250420T113000Z
DTEND:20250420T123000Z
DTSTAMP:20260419T221015Z
UID:11761292025-04-20 11:30:00+00:00achurchnearyou
CATEGORIES:
DESCRIPTION:Join us after the Communion service for an Easter Egg Hunt. Fu
 n for the whole family.
GEO:-2.86334;51.328112
LOCATION:St Andrew's\, Banwell
URL:https://www.achurchnearyou.com/church/11130/service-and-events/events/
 1176129/
END:VEVENT
END:VCALENDAR
