BEGIN:VCALENDAR
VERSION:2.0
PRODID:-//achurchnearyou.com//eventfeed//EN
CALSCALE:GREGORIAN
METHOD:PUBLISH
X-WR-TIMEZONE:UTC
BEGIN:VEVENT
SUMMARY:Midnight Holy Communion Service
DTSTART:20251224T231500Z
DTEND:20251225T001500Z
DTSTAMP:20260423T165703Z
UID:12686692025-12-24 23:15:00+00:00achurchnearyou
CATEGORIES:
DESCRIPTION:Join us for the first communion of Christmas day.
GEO:-2.977945;51.324612
LOCATION:St Nicholas Church
URL:https://www.stnicholaswithstbarnabas.org
END:VEVENT
END:VCALENDAR
