BEGIN:VCALENDAR
VERSION:2.0
PRODID:-//achurchnearyou.com//eventfeed//EN
CALSCALE:GREGORIAN
METHOD:PUBLISH
X-WR-TIMEZONE:UTC
BEGIN:VEVENT
SUMMARY:Family Communion Service
DTSTART:20251225T100000Z
DTEND:20251225T113000Z
DTSTAMP:20260423T165035Z
UID:12686842025-12-25 10:00:00+00:00achurchnearyou
CATEGORIES:
DESCRIPTION:Come and join us for our Family Communion Christmas service.
GEO:-2.977945;51.324612
LOCATION:St Nicholas Church
URL:http://www.stnicholaswithstbarnabas.org
END:VEVENT
END:VCALENDAR
