BEGIN:VCALENDAR
VERSION:2.0
PRODID:-//achurchnearyou.com//eventfeed//EN
CALSCALE:GREGORIAN
METHOD:PUBLISH
X-WR-TIMEZONE:UTC
BEGIN:VEVENT
SUMMARY:MAUNDY THURSDAY
DTSTART:20250417T183000Z
DTEND:20250417T200000Z
DTSTAMP:20260419T184107Z
UID:11917912025-04-17 18:30:00+00:00achurchnearyou
CATEGORIES:
DESCRIPTION:Evening Mass\, Last Supper\, Watch of the Sacred Passion and t
 he stripping of the altar.
GEO:-2.8549;51.436701
LOCATION:St John the Evangelist
URL:https://www.achurchnearyou.com/church/11185/service-and-events/events/
 1191791/
END:VEVENT
END:VCALENDAR
