BEGIN:VCALENDAR
VERSION:2.0
PRODID:-//achurchnearyou.com//eventfeed//EN
CALSCALE:GREGORIAN
METHOD:PUBLISH
X-WR-TIMEZONE:UTC
BEGIN:VEVENT
SUMMARY:Bell Ringing Practice
DTSTART;TZID=Europe/London:20260407T193000
DTEND;TZID=Europe/London:20260407T203000
DTSTAMP:20260423T161831Z
UID:446541775586600.0achurchnearyou
CATEGORIES:
DESCRIPTION:St Peter’s Church has a ring of eight bells\, six of which w
 ere installed in 1743\, with the two trebles added in 1900.  The tenor bel
 l weighs 15cwt. We have a thriving band of ringers and aim to ring every S
 unday from 10.30am to 11.15am. We are available to ring\, if required\, fo
 r weddings and any other celebrations. Ringing practice is currently suspe
 nded.
GEO:-2.770207;51.480511
LOCATION:St Peter
URL:https://www.achurchnearyou.com/church/11196/service-and-events/events/
 44654/
END:VEVENT
BEGIN:VEVENT
SUMMARY:Bell Ringing Practice
DTSTART;TZID=Europe/London:20260414T193000
DTEND;TZID=Europe/London:20260414T203000
DTSTAMP:20260423T161831Z
UID:446541776191400.0achurchnearyou
CATEGORIES:
DESCRIPTION:St Peter’s Church has a ring of eight bells\, six of which w
 ere installed in 1743\, with the two trebles added in 1900.  The tenor bel
 l weighs 15cwt. We have a thriving band of ringers and aim to ring every S
 unday from 10.30am to 11.15am. We are available to ring\, if required\, fo
 r weddings and any other celebrations. Ringing practice is currently suspe
 nded.
GEO:-2.770207;51.480511
LOCATION:St Peter
URL:https://www.achurchnearyou.com/church/11196/service-and-events/events/
 44654/
END:VEVENT
BEGIN:VEVENT
SUMMARY:Bell Ringing Practice
DTSTART;TZID=Europe/London:20260421T193000
DTEND;TZID=Europe/London:20260421T203000
DTSTAMP:20260423T161831Z
UID:446541776796200.0achurchnearyou
CATEGORIES:
DESCRIPTION:St Peter’s Church has a ring of eight bells\, six of which w
 ere installed in 1743\, with the two trebles added in 1900.  The tenor bel
 l weighs 15cwt. We have a thriving band of ringers and aim to ring every S
 unday from 10.30am to 11.15am. We are available to ring\, if required\, fo
 r weddings and any other celebrations. Ringing practice is currently suspe
 nded.
GEO:-2.770207;51.480511
LOCATION:St Peter
URL:https://www.achurchnearyou.com/church/11196/service-and-events/events/
 44654/
END:VEVENT
BEGIN:VEVENT
SUMMARY:Mothers Union
DTSTART;TZID=Europe/London:20260423T143000
DTEND;TZID=Europe/London:20260423T155700
DTSTAMP:20260423T161831Z
UID:446721776951000.0achurchnearyou
CATEGORIES:
DESCRIPTION:An opportunity for fellowship\, prayer and learning. We have r
 ecently resumed meeting\; do get in touch if you would like to join us in 
 future.
GEO:-2.770207;51.480511
LOCATION:St Peter
URL:https://www.achurchnearyou.com/church/11196/service-and-events/events/
 44672/
END:VEVENT
BEGIN:VEVENT
SUMMARY:Bell Ringing Practice
DTSTART;TZID=Europe/London:20260428T193000
DTEND;TZID=Europe/London:20260428T203000
DTSTAMP:20260423T161831Z
UID:446541777401000.0achurchnearyou
CATEGORIES:
DESCRIPTION:St Peter’s Church has a ring of eight bells\, six of which w
 ere installed in 1743\, with the two trebles added in 1900.  The tenor bel
 l weighs 15cwt. We have a thriving band of ringers and aim to ring every S
 unday from 10.30am to 11.15am. We are available to ring\, if required\, fo
 r weddings and any other celebrations. Ringing practice is currently suspe
 nded.
GEO:-2.770207;51.480511
LOCATION:St Peter
URL:https://www.achurchnearyou.com/church/11196/service-and-events/events/
 44654/
END:VEVENT
BEGIN:VEVENT
SUMMARY:Bell Ringing Practice
DTSTART;TZID=Europe/London:20260505T193000
DTEND;TZID=Europe/London:20260505T203000
DTSTAMP:20260423T161831Z
UID:446541778005800.0achurchnearyou
CATEGORIES:
DESCRIPTION:St Peter’s Church has a ring of eight bells\, six of which w
 ere installed in 1743\, with the two trebles added in 1900.  The tenor bel
 l weighs 15cwt. We have a thriving band of ringers and aim to ring every S
 unday from 10.30am to 11.15am. We are available to ring\, if required\, fo
 r weddings and any other celebrations. Ringing practice is currently suspe
 nded.
GEO:-2.770207;51.480511
LOCATION:St Peter
URL:https://www.achurchnearyou.com/church/11196/service-and-events/events/
 44654/
END:VEVENT
BEGIN:VEVENT
SUMMARY:Bell Ringing Practice
DTSTART;TZID=Europe/London:20260512T193000
DTEND;TZID=Europe/London:20260512T203000
DTSTAMP:20260423T161831Z
UID:446541778610600.0achurchnearyou
CATEGORIES:
DESCRIPTION:St Peter’s Church has a ring of eight bells\, six of which w
 ere installed in 1743\, with the two trebles added in 1900.  The tenor bel
 l weighs 15cwt. We have a thriving band of ringers and aim to ring every S
 unday from 10.30am to 11.15am. We are available to ring\, if required\, fo
 r weddings and any other celebrations. Ringing practice is currently suspe
 nded.
GEO:-2.770207;51.480511
LOCATION:St Peter
URL:https://www.achurchnearyou.com/church/11196/service-and-events/events/
 44654/
END:VEVENT
BEGIN:VEVENT
SUMMARY:Bell Ringing Practice
DTSTART;TZID=Europe/London:20260519T193000
DTEND;TZID=Europe/London:20260519T203000
DTSTAMP:20260423T161831Z
UID:446541779215400.0achurchnearyou
CATEGORIES:
DESCRIPTION:St Peter’s Church has a ring of eight bells\, six of which w
 ere installed in 1743\, with the two trebles added in 1900.  The tenor bel
 l weighs 15cwt. We have a thriving band of ringers and aim to ring every S
 unday from 10.30am to 11.15am. We are available to ring\, if required\, fo
 r weddings and any other celebrations. Ringing practice is currently suspe
 nded.
GEO:-2.770207;51.480511
LOCATION:St Peter
URL:https://www.achurchnearyou.com/church/11196/service-and-events/events/
 44654/
END:VEVENT
BEGIN:VEVENT
SUMMARY:Bell Ringing Practice
DTSTART;TZID=Europe/London:20260526T193000
DTEND;TZID=Europe/London:20260526T203000
DTSTAMP:20260423T161831Z
UID:446541779820200.0achurchnearyou
CATEGORIES:
DESCRIPTION:St Peter’s Church has a ring of eight bells\, six of which w
 ere installed in 1743\, with the two trebles added in 1900.  The tenor bel
 l weighs 15cwt. We have a thriving band of ringers and aim to ring every S
 unday from 10.30am to 11.15am. We are available to ring\, if required\, fo
 r weddings and any other celebrations. Ringing practice is currently suspe
 nded.
GEO:-2.770207;51.480511
LOCATION:St Peter
URL:https://www.achurchnearyou.com/church/11196/service-and-events/events/
 44654/
END:VEVENT
BEGIN:VEVENT
SUMMARY:Mothers Union
DTSTART;TZID=Europe/London:20260528T143000
DTEND;TZID=Europe/London:20260528T155700
DTSTAMP:20260423T161831Z
UID:446721779975000.0achurchnearyou
CATEGORIES:
DESCRIPTION:An opportunity for fellowship\, prayer and learning. We have r
 ecently resumed meeting\; do get in touch if you would like to join us in 
 future.
GEO:-2.770207;51.480511
LOCATION:St Peter
URL:https://www.achurchnearyou.com/church/11196/service-and-events/events/
 44672/
END:VEVENT
BEGIN:VEVENT
SUMMARY:Bell Ringing Practice
DTSTART;TZID=Europe/London:20260602T193000
DTEND;TZID=Europe/London:20260602T203000
DTSTAMP:20260423T161831Z
UID:446541780425000.0achurchnearyou
CATEGORIES:
DESCRIPTION:St Peter’s Church has a ring of eight bells\, six of which w
 ere installed in 1743\, with the two trebles added in 1900.  The tenor bel
 l weighs 15cwt. We have a thriving band of ringers and aim to ring every S
 unday from 10.30am to 11.15am. We are available to ring\, if required\, fo
 r weddings and any other celebrations. Ringing practice is currently suspe
 nded.
GEO:-2.770207;51.480511
LOCATION:St Peter
URL:https://www.achurchnearyou.com/church/11196/service-and-events/events/
 44654/
END:VEVENT
BEGIN:VEVENT
SUMMARY:Bell Ringing Practice
DTSTART;TZID=Europe/London:20260609T193000
DTEND;TZID=Europe/London:20260609T203000
DTSTAMP:20260423T161831Z
UID:446541781029800.0achurchnearyou
CATEGORIES:
DESCRIPTION:St Peter’s Church has a ring of eight bells\, six of which w
 ere installed in 1743\, with the two trebles added in 1900.  The tenor bel
 l weighs 15cwt. We have a thriving band of ringers and aim to ring every S
 unday from 10.30am to 11.15am. We are available to ring\, if required\, fo
 r weddings and any other celebrations. Ringing practice is currently suspe
 nded.
GEO:-2.770207;51.480511
LOCATION:St Peter
URL:https://www.achurchnearyou.com/church/11196/service-and-events/events/
 44654/
END:VEVENT
BEGIN:VEVENT
SUMMARY:Bell Ringing Practice
DTSTART;TZID=Europe/London:20260616T193000
DTEND;TZID=Europe/London:20260616T203000
DTSTAMP:20260423T161831Z
UID:446541781634600.0achurchnearyou
CATEGORIES:
DESCRIPTION:St Peter’s Church has a ring of eight bells\, six of which w
 ere installed in 1743\, with the two trebles added in 1900.  The tenor bel
 l weighs 15cwt. We have a thriving band of ringers and aim to ring every S
 unday from 10.30am to 11.15am. We are available to ring\, if required\, fo
 r weddings and any other celebrations. Ringing practice is currently suspe
 nded.
GEO:-2.770207;51.480511
LOCATION:St Peter
URL:https://www.achurchnearyou.com/church/11196/service-and-events/events/
 44654/
END:VEVENT
BEGIN:VEVENT
SUMMARY:Bell Ringing Practice
DTSTART;TZID=Europe/London:20260623T193000
DTEND;TZID=Europe/London:20260623T203000
DTSTAMP:20260423T161831Z
UID:446541782239400.0achurchnearyou
CATEGORIES:
DESCRIPTION:St Peter’s Church has a ring of eight bells\, six of which w
 ere installed in 1743\, with the two trebles added in 1900.  The tenor bel
 l weighs 15cwt. We have a thriving band of ringers and aim to ring every S
 unday from 10.30am to 11.15am. We are available to ring\, if required\, fo
 r weddings and any other celebrations. Ringing practice is currently suspe
 nded.
GEO:-2.770207;51.480511
LOCATION:St Peter
URL:https://www.achurchnearyou.com/church/11196/service-and-events/events/
 44654/
END:VEVENT
BEGIN:VEVENT
SUMMARY:Mothers Union
DTSTART;TZID=Europe/London:20260625T143000
DTEND;TZID=Europe/London:20260625T155700
DTSTAMP:20260423T161831Z
UID:446721782394200.0achurchnearyou
CATEGORIES:
DESCRIPTION:An opportunity for fellowship\, prayer and learning. We have r
 ecently resumed meeting\; do get in touch if you would like to join us in 
 future.
GEO:-2.770207;51.480511
LOCATION:St Peter
URL:https://www.achurchnearyou.com/church/11196/service-and-events/events/
 44672/
END:VEVENT
BEGIN:VEVENT
SUMMARY:Bell Ringing Practice
DTSTART;TZID=Europe/London:20260630T193000
DTEND;TZID=Europe/London:20260630T203000
DTSTAMP:20260423T161831Z
UID:446541782844200.0achurchnearyou
CATEGORIES:
DESCRIPTION:St Peter’s Church has a ring of eight bells\, six of which w
 ere installed in 1743\, with the two trebles added in 1900.  The tenor bel
 l weighs 15cwt. We have a thriving band of ringers and aim to ring every S
 unday from 10.30am to 11.15am. We are available to ring\, if required\, fo
 r weddings and any other celebrations. Ringing practice is currently suspe
 nded.
GEO:-2.770207;51.480511
LOCATION:St Peter
URL:https://www.achurchnearyou.com/church/11196/service-and-events/events/
 44654/
END:VEVENT
BEGIN:VEVENT
SUMMARY:Bell Ringing Practice
DTSTART;TZID=Europe/London:20260707T193000
DTEND;TZID=Europe/London:20260707T203000
DTSTAMP:20260423T161831Z
UID:446541783449000.0achurchnearyou
CATEGORIES:
DESCRIPTION:St Peter’s Church has a ring of eight bells\, six of which w
 ere installed in 1743\, with the two trebles added in 1900.  The tenor bel
 l weighs 15cwt. We have a thriving band of ringers and aim to ring every S
 unday from 10.30am to 11.15am. We are available to ring\, if required\, fo
 r weddings and any other celebrations. Ringing practice is currently suspe
 nded.
GEO:-2.770207;51.480511
LOCATION:St Peter
URL:https://www.achurchnearyou.com/church/11196/service-and-events/events/
 44654/
END:VEVENT
BEGIN:VEVENT
SUMMARY:Bell Ringing Practice
DTSTART;TZID=Europe/London:20260714T193000
DTEND;TZID=Europe/London:20260714T203000
DTSTAMP:20260423T161831Z
UID:446541784053800.0achurchnearyou
CATEGORIES:
DESCRIPTION:St Peter’s Church has a ring of eight bells\, six of which w
 ere installed in 1743\, with the two trebles added in 1900.  The tenor bel
 l weighs 15cwt. We have a thriving band of ringers and aim to ring every S
 unday from 10.30am to 11.15am. We are available to ring\, if required\, fo
 r weddings and any other celebrations. Ringing practice is currently suspe
 nded.
GEO:-2.770207;51.480511
LOCATION:St Peter
URL:https://www.achurchnearyou.com/church/11196/service-and-events/events/
 44654/
END:VEVENT
BEGIN:VEVENT
SUMMARY:Bell Ringing Practice
DTSTART;TZID=Europe/London:20260721T193000
DTEND;TZID=Europe/London:20260721T203000
DTSTAMP:20260423T161831Z
UID:446541784658600.0achurchnearyou
CATEGORIES:
DESCRIPTION:St Peter’s Church has a ring of eight bells\, six of which w
 ere installed in 1743\, with the two trebles added in 1900.  The tenor bel
 l weighs 15cwt. We have a thriving band of ringers and aim to ring every S
 unday from 10.30am to 11.15am. We are available to ring\, if required\, fo
 r weddings and any other celebrations. Ringing practice is currently suspe
 nded.
GEO:-2.770207;51.480511
LOCATION:St Peter
URL:https://www.achurchnearyou.com/church/11196/service-and-events/events/
 44654/
END:VEVENT
BEGIN:VEVENT
SUMMARY:Mothers Union
DTSTART;TZID=Europe/London:20260723T143000
DTEND;TZID=Europe/London:20260723T155700
DTSTAMP:20260423T161831Z
UID:446721784813400.0achurchnearyou
CATEGORIES:
DESCRIPTION:An opportunity for fellowship\, prayer and learning. We have r
 ecently resumed meeting\; do get in touch if you would like to join us in 
 future.
GEO:-2.770207;51.480511
LOCATION:St Peter
URL:https://www.achurchnearyou.com/church/11196/service-and-events/events/
 44672/
END:VEVENT
BEGIN:VEVENT
SUMMARY:Bell Ringing Practice
DTSTART;TZID=Europe/London:20260728T193000
DTEND;TZID=Europe/London:20260728T203000
DTSTAMP:20260423T161831Z
UID:446541785263400.0achurchnearyou
CATEGORIES:
DESCRIPTION:St Peter’s Church has a ring of eight bells\, six of which w
 ere installed in 1743\, with the two trebles added in 1900.  The tenor bel
 l weighs 15cwt. We have a thriving band of ringers and aim to ring every S
 unday from 10.30am to 11.15am. We are available to ring\, if required\, fo
 r weddings and any other celebrations. Ringing practice is currently suspe
 nded.
GEO:-2.770207;51.480511
LOCATION:St Peter
URL:https://www.achurchnearyou.com/church/11196/service-and-events/events/
 44654/
END:VEVENT
BEGIN:VEVENT
SUMMARY:Bell Ringing Practice
DTSTART;TZID=Europe/London:20260804T193000
DTEND;TZID=Europe/London:20260804T203000
DTSTAMP:20260423T161831Z
UID:446541785868200.0achurchnearyou
CATEGORIES:
DESCRIPTION:St Peter’s Church has a ring of eight bells\, six of which w
 ere installed in 1743\, with the two trebles added in 1900.  The tenor bel
 l weighs 15cwt. We have a thriving band of ringers and aim to ring every S
 unday from 10.30am to 11.15am. We are available to ring\, if required\, fo
 r weddings and any other celebrations. Ringing practice is currently suspe
 nded.
GEO:-2.770207;51.480511
LOCATION:St Peter
URL:https://www.achurchnearyou.com/church/11196/service-and-events/events/
 44654/
END:VEVENT
BEGIN:VEVENT
SUMMARY:Bell Ringing Practice
DTSTART;TZID=Europe/London:20260811T193000
DTEND;TZID=Europe/London:20260811T203000
DTSTAMP:20260423T161831Z
UID:446541786473000.0achurchnearyou
CATEGORIES:
DESCRIPTION:St Peter’s Church has a ring of eight bells\, six of which w
 ere installed in 1743\, with the two trebles added in 1900.  The tenor bel
 l weighs 15cwt. We have a thriving band of ringers and aim to ring every S
 unday from 10.30am to 11.15am. We are available to ring\, if required\, fo
 r weddings and any other celebrations. Ringing practice is currently suspe
 nded.
GEO:-2.770207;51.480511
LOCATION:St Peter
URL:https://www.achurchnearyou.com/church/11196/service-and-events/events/
 44654/
END:VEVENT
BEGIN:VEVENT
SUMMARY:Bell Ringing Practice
DTSTART;TZID=Europe/London:20260818T193000
DTEND;TZID=Europe/London:20260818T203000
DTSTAMP:20260423T161831Z
UID:446541787077800.0achurchnearyou
CATEGORIES:
DESCRIPTION:St Peter’s Church has a ring of eight bells\, six of which w
 ere installed in 1743\, with the two trebles added in 1900.  The tenor bel
 l weighs 15cwt. We have a thriving band of ringers and aim to ring every S
 unday from 10.30am to 11.15am. We are available to ring\, if required\, fo
 r weddings and any other celebrations. Ringing practice is currently suspe
 nded.
GEO:-2.770207;51.480511
LOCATION:St Peter
URL:https://www.achurchnearyou.com/church/11196/service-and-events/events/
 44654/
END:VEVENT
BEGIN:VEVENT
SUMMARY:Bell Ringing Practice
DTSTART;TZID=Europe/London:20260825T193000
DTEND;TZID=Europe/London:20260825T203000
DTSTAMP:20260423T161831Z
UID:446541787682600.0achurchnearyou
CATEGORIES:
DESCRIPTION:St Peter’s Church has a ring of eight bells\, six of which w
 ere installed in 1743\, with the two trebles added in 1900.  The tenor bel
 l weighs 15cwt. We have a thriving band of ringers and aim to ring every S
 unday from 10.30am to 11.15am. We are available to ring\, if required\, fo
 r weddings and any other celebrations. Ringing practice is currently suspe
 nded.
GEO:-2.770207;51.480511
LOCATION:St Peter
URL:https://www.achurchnearyou.com/church/11196/service-and-events/events/
 44654/
END:VEVENT
BEGIN:VEVENT
SUMMARY:Bell Ringing Practice
DTSTART;TZID=Europe/London:20260901T193000
DTEND;TZID=Europe/London:20260901T203000
DTSTAMP:20260423T161831Z
UID:446541788287400.0achurchnearyou
CATEGORIES:
DESCRIPTION:St Peter’s Church has a ring of eight bells\, six of which w
 ere installed in 1743\, with the two trebles added in 1900.  The tenor bel
 l weighs 15cwt. We have a thriving band of ringers and aim to ring every S
 unday from 10.30am to 11.15am. We are available to ring\, if required\, fo
 r weddings and any other celebrations. Ringing practice is currently suspe
 nded.
GEO:-2.770207;51.480511
LOCATION:St Peter
URL:https://www.achurchnearyou.com/church/11196/service-and-events/events/
 44654/
END:VEVENT
BEGIN:VEVENT
SUMMARY:Bell Ringing Practice
DTSTART;TZID=Europe/London:20260908T193000
DTEND;TZID=Europe/London:20260908T203000
DTSTAMP:20260423T161831Z
UID:446541788892200.0achurchnearyou
CATEGORIES:
DESCRIPTION:St Peter’s Church has a ring of eight bells\, six of which w
 ere installed in 1743\, with the two trebles added in 1900.  The tenor bel
 l weighs 15cwt. We have a thriving band of ringers and aim to ring every S
 unday from 10.30am to 11.15am. We are available to ring\, if required\, fo
 r weddings and any other celebrations. Ringing practice is currently suspe
 nded.
GEO:-2.770207;51.480511
LOCATION:St Peter
URL:https://www.achurchnearyou.com/church/11196/service-and-events/events/
 44654/
END:VEVENT
BEGIN:VEVENT
SUMMARY:Bell Ringing Practice
DTSTART;TZID=Europe/London:20260915T193000
DTEND;TZID=Europe/London:20260915T203000
DTSTAMP:20260423T161831Z
UID:446541789497000.0achurchnearyou
CATEGORIES:
DESCRIPTION:St Peter’s Church has a ring of eight bells\, six of which w
 ere installed in 1743\, with the two trebles added in 1900.  The tenor bel
 l weighs 15cwt. We have a thriving band of ringers and aim to ring every S
 unday from 10.30am to 11.15am. We are available to ring\, if required\, fo
 r weddings and any other celebrations. Ringing practice is currently suspe
 nded.
GEO:-2.770207;51.480511
LOCATION:St Peter
URL:https://www.achurchnearyou.com/church/11196/service-and-events/events/
 44654/
END:VEVENT
BEGIN:VEVENT
SUMMARY:Bell Ringing Practice
DTSTART;TZID=Europe/London:20260922T193000
DTEND;TZID=Europe/London:20260922T203000
DTSTAMP:20260423T161831Z
UID:446541790101800.0achurchnearyou
CATEGORIES:
DESCRIPTION:St Peter’s Church has a ring of eight bells\, six of which w
 ere installed in 1743\, with the two trebles added in 1900.  The tenor bel
 l weighs 15cwt. We have a thriving band of ringers and aim to ring every S
 unday from 10.30am to 11.15am. We are available to ring\, if required\, fo
 r weddings and any other celebrations. Ringing practice is currently suspe
 nded.
GEO:-2.770207;51.480511
LOCATION:St Peter
URL:https://www.achurchnearyou.com/church/11196/service-and-events/events/
 44654/
END:VEVENT
BEGIN:VEVENT
SUMMARY:Mothers Union
DTSTART;TZID=Europe/London:20260924T143000
DTEND;TZID=Europe/London:20260924T155700
DTSTAMP:20260423T161831Z
UID:446721790256600.0achurchnearyou
CATEGORIES:
DESCRIPTION:An opportunity for fellowship\, prayer and learning. We have r
 ecently resumed meeting\; do get in touch if you would like to join us in 
 future.
GEO:-2.770207;51.480511
LOCATION:St Peter
URL:https://www.achurchnearyou.com/church/11196/service-and-events/events/
 44672/
END:VEVENT
BEGIN:VEVENT
SUMMARY:Bell Ringing Practice
DTSTART;TZID=Europe/London:20260929T193000
DTEND;TZID=Europe/London:20260929T203000
DTSTAMP:20260423T161831Z
UID:446541790706600.0achurchnearyou
CATEGORIES:
DESCRIPTION:St Peter’s Church has a ring of eight bells\, six of which w
 ere installed in 1743\, with the two trebles added in 1900.  The tenor bel
 l weighs 15cwt. We have a thriving band of ringers and aim to ring every S
 unday from 10.30am to 11.15am. We are available to ring\, if required\, fo
 r weddings and any other celebrations. Ringing practice is currently suspe
 nded.
GEO:-2.770207;51.480511
LOCATION:St Peter
URL:https://www.achurchnearyou.com/church/11196/service-and-events/events/
 44654/
END:VEVENT
END:VCALENDAR
