BEGIN:VCALENDAR
VERSION:2.0
PRODID:-//achurchnearyou.com//eventfeed//EN
CALSCALE:GREGORIAN
METHOD:PUBLISH
X-WR-TIMEZONE:UTC
BEGIN:VEVENT
SUMMARY:Christmas Carol Celebration
DTSTART:20251221T190000Z
DTEND:20251221T200000Z
DTSTAMP:20260420T210138Z
UID:12546442025-12-21 19:00:00+00:00achurchnearyou
CATEGORIES:
DESCRIPTION:Celebrate the Christmas season with a candlelit service with c
 arols and readings from the Christmas story\, featuring a guest band.
GEO:-1.374072;51.779663
LOCATION:St Leonard's Church\, Eynsham
URL:https://www.achurchnearyou.com/church/112/service-and-events/events/12
 54644/
END:VEVENT
END:VCALENDAR
