BEGIN:VCALENDAR
VERSION:2.0
PRODID:-//achurchnearyou.com//eventfeed//EN
CALSCALE:GREGORIAN
METHOD:PUBLISH
X-WR-TIMEZONE:UTC
BEGIN:VEVENT
SUMMARY:The Easter Story Brick by Brick
DTSTART;TZID=Europe/London:20260402T100000
DTEND;TZID=Europe/London:20260402T120000
DTSTAMP:20260420T112131Z
UID:13127891775120400.0achurchnearyou
CATEGORIES:
DESCRIPTION:Join us for a fun morning for all the family.  We will be expl
 oring the Easter story through brick building.  Followed by refreshments.
GEO:-1.374072;51.779663
LOCATION:St Leonard's Church\, Eynsham
URL:https://www.achurchnearyou.com/church/112/service-and-events/events/13
 12789/
END:VEVENT
BEGIN:VEVENT
SUMMARY:Candlelit Tenebrae Communion Service
DTSTART;TZID=Europe/London:20260402T193000
DTEND;TZID=Europe/London:20260402T203000
DTSTAMP:20260420T112131Z
UID:13127981775154600.0achurchnearyou
CATEGORIES:
DESCRIPTION:As candles are extinguished we remember the events which lead 
 up to Good Friday.
GEO:-1.374072;51.779663
LOCATION:St Leonard's Church\, Eynsham
URL:https://www.achurchnearyou.com/church/112/service-and-events/events/13
 12798/
END:VEVENT
BEGIN:VEVENT
SUMMARY:Good Friday Service in the Square
DTSTART;TZID=Europe/London:20260403T100000
DTEND;TZID=Europe/London:20260403T110000
DTSTAMP:20260420T112131Z
UID:13128331775206800.0achurchnearyou
CATEGORIES:
DESCRIPTION:Good Friday service in the Square with the three Eynsham churc
 hes.  Followed by coffee and hot cross buns.
LOCATION:The Square\, Eynsham
URL:https://www.achurchnearyou.com/church/112/service-and-events/events/13
 12833/
END:VEVENT
BEGIN:VEVENT
SUMMARY:Hour at the Cross
DTSTART;TZID=Europe/London:20260403T140000
DTEND;TZID=Europe/London:20260403T150000
DTSTAMP:20260420T112131Z
UID:13128411775221200.0achurchnearyou
CATEGORIES:
DESCRIPTION:A quiet\, prayerful service
GEO:-1.374072;51.779663
LOCATION:St Leonard's Church\, Eynsham
URL:https://www.achurchnearyou.com/church/112/service-and-events/events/13
 12841/
END:VEVENT
BEGIN:VEVENT
SUMMARY:Easter Family Communion Service
DTSTART;TZID=Europe/London:20260405T103000
DTEND;TZID=Europe/London:20260405T113000
DTSTAMP:20260420T112131Z
UID:13128471775381400.0achurchnearyou
CATEGORIES:
DESCRIPTION:A family friendly Easter Celebration with communion.  Children
 's activities including brick building and an Easter egg hunt after the se
 rvice.
GEO:-1.374072;51.779663
LOCATION:St Leonard's Church\, Eynsham
URL:https://www.achurchnearyou.com/church/112/service-and-events/events/13
 12847/
END:VEVENT
BEGIN:VEVENT
SUMMARY:Morning Service
DTSTART;TZID=Europe/London:20260405T103000
DTEND;TZID=Europe/London:20260405T113000
DTSTAMP:20260420T112131Z
UID:17421775381400.0achurchnearyou
CATEGORIES:
DESCRIPTION:A  modern\,  relevant morning service usually with a mixture o
 f informal songs and traditional hymns.  Preaching will be from the curren
 t sermon series.  Holy Communion on first and third Sundays.  Please visit
  our website for up to date information.
GEO:-1.374072;51.779663
LOCATION:St Leonard's Church\, Eynsham
URL:https://www.achurchnearyou.com/church/112/service-and-events/events/17
 42/
END:VEVENT
BEGIN:VEVENT
SUMMARY:Holy Communion
DTSTART;TZID=Europe/London:20260412T090000
DTEND;TZID=Europe/London:20260412T100000
DTSTAMP:20260420T112131Z
UID:8238071775980800.0achurchnearyou
CATEGORIES:
DESCRIPTION:A quiet\, reflective Holy Communion service with hymns on the 
 second and fourth Sunday of the month.  Please see our website for up to d
 ate information.
GEO:-1.374072;51.779663
LOCATION:St Leonard's Church\, Eynsham
URL:https://www.achurchnearyou.com/church/112/service-and-events/events/82
 3807/
END:VEVENT
BEGIN:VEVENT
SUMMARY:Morning Service
DTSTART;TZID=Europe/London:20260412T103000
DTEND;TZID=Europe/London:20260412T113000
DTSTAMP:20260420T112131Z
UID:17421775986200.0achurchnearyou
CATEGORIES:
DESCRIPTION:A  modern\,  relevant morning service usually with a mixture o
 f informal songs and traditional hymns.  Preaching will be from the curren
 t sermon series.  Holy Communion on first and third Sundays.  Please visit
  our website for up to date information.
GEO:-1.374072;51.779663
LOCATION:St Leonard's Church\, Eynsham
URL:https://www.achurchnearyou.com/church/112/service-and-events/events/17
 42/
END:VEVENT
BEGIN:VEVENT
SUMMARY:Morning Service
DTSTART;TZID=Europe/London:20260419T103000
DTEND;TZID=Europe/London:20260419T113000
DTSTAMP:20260420T112131Z
UID:17421776591000.0achurchnearyou
CATEGORIES:
DESCRIPTION:A  modern\,  relevant morning service usually with a mixture o
 f informal songs and traditional hymns.  Preaching will be from the curren
 t sermon series.  Holy Communion on first and third Sundays.  Please visit
  our website for up to date information.
GEO:-1.374072;51.779663
LOCATION:St Leonard's Church\, Eynsham
URL:https://www.achurchnearyou.com/church/112/service-and-events/events/17
 42/
END:VEVENT
BEGIN:VEVENT
SUMMARY:Holy Communion
DTSTART;TZID=Europe/London:20260426T090000
DTEND;TZID=Europe/London:20260426T100000
DTSTAMP:20260420T112131Z
UID:8238071777190400.0achurchnearyou
CATEGORIES:
DESCRIPTION:A quiet\, reflective Holy Communion service with hymns on the 
 second and fourth Sunday of the month.  Please see our website for up to d
 ate information.
GEO:-1.374072;51.779663
LOCATION:St Leonard's Church\, Eynsham
URL:https://www.achurchnearyou.com/church/112/service-and-events/events/82
 3807/
END:VEVENT
BEGIN:VEVENT
SUMMARY:Morning Service
DTSTART;TZID=Europe/London:20260426T103000
DTEND;TZID=Europe/London:20260426T113000
DTSTAMP:20260420T112131Z
UID:17421777195800.0achurchnearyou
CATEGORIES:
DESCRIPTION:A  modern\,  relevant morning service usually with a mixture o
 f informal songs and traditional hymns.  Preaching will be from the curren
 t sermon series.  Holy Communion on first and third Sundays.  Please visit
  our website for up to date information.
GEO:-1.374072;51.779663
LOCATION:St Leonard's Church\, Eynsham
URL:https://www.achurchnearyou.com/church/112/service-and-events/events/17
 42/
END:VEVENT
BEGIN:VEVENT
SUMMARY:Morning Service
DTSTART;TZID=Europe/London:20260503T103000
DTEND;TZID=Europe/London:20260503T113000
DTSTAMP:20260420T112131Z
UID:17421777800600.0achurchnearyou
CATEGORIES:
DESCRIPTION:A  modern\,  relevant morning service usually with a mixture o
 f informal songs and traditional hymns.  Preaching will be from the curren
 t sermon series.  Holy Communion on first and third Sundays.  Please visit
  our website for up to date information.
GEO:-1.374072;51.779663
LOCATION:St Leonard's Church\, Eynsham
URL:https://www.achurchnearyou.com/church/112/service-and-events/events/17
 42/
END:VEVENT
BEGIN:VEVENT
SUMMARY:Holy Communion
DTSTART;TZID=Europe/London:20260510T090000
DTEND;TZID=Europe/London:20260510T100000
DTSTAMP:20260420T112131Z
UID:8238071778400000.0achurchnearyou
CATEGORIES:
DESCRIPTION:A quiet\, reflective Holy Communion service with hymns on the 
 second and fourth Sunday of the month.  Please see our website for up to d
 ate information.
GEO:-1.374072;51.779663
LOCATION:St Leonard's Church\, Eynsham
URL:https://www.achurchnearyou.com/church/112/service-and-events/events/82
 3807/
END:VEVENT
BEGIN:VEVENT
SUMMARY:Morning Service
DTSTART;TZID=Europe/London:20260510T103000
DTEND;TZID=Europe/London:20260510T113000
DTSTAMP:20260420T112131Z
UID:17421778405400.0achurchnearyou
CATEGORIES:
DESCRIPTION:A  modern\,  relevant morning service usually with a mixture o
 f informal songs and traditional hymns.  Preaching will be from the curren
 t sermon series.  Holy Communion on first and third Sundays.  Please visit
  our website for up to date information.
GEO:-1.374072;51.779663
LOCATION:St Leonard's Church\, Eynsham
URL:https://www.achurchnearyou.com/church/112/service-and-events/events/17
 42/
END:VEVENT
BEGIN:VEVENT
SUMMARY:Morning Service
DTSTART;TZID=Europe/London:20260517T103000
DTEND;TZID=Europe/London:20260517T113000
DTSTAMP:20260420T112131Z
UID:17421779010200.0achurchnearyou
CATEGORIES:
DESCRIPTION:A  modern\,  relevant morning service usually with a mixture o
 f informal songs and traditional hymns.  Preaching will be from the curren
 t sermon series.  Holy Communion on first and third Sundays.  Please visit
  our website for up to date information.
GEO:-1.374072;51.779663
LOCATION:St Leonard's Church\, Eynsham
URL:https://www.achurchnearyou.com/church/112/service-and-events/events/17
 42/
END:VEVENT
BEGIN:VEVENT
SUMMARY:Holy Communion
DTSTART;TZID=Europe/London:20260524T090000
DTEND;TZID=Europe/London:20260524T100000
DTSTAMP:20260420T112131Z
UID:8238071779609600.0achurchnearyou
CATEGORIES:
DESCRIPTION:A quiet\, reflective Holy Communion service with hymns on the 
 second and fourth Sunday of the month.  Please see our website for up to d
 ate information.
GEO:-1.374072;51.779663
LOCATION:St Leonard's Church\, Eynsham
URL:https://www.achurchnearyou.com/church/112/service-and-events/events/82
 3807/
END:VEVENT
BEGIN:VEVENT
SUMMARY:Morning Service
DTSTART;TZID=Europe/London:20260524T103000
DTEND;TZID=Europe/London:20260524T113000
DTSTAMP:20260420T112131Z
UID:17421779615000.0achurchnearyou
CATEGORIES:
DESCRIPTION:A  modern\,  relevant morning service usually with a mixture o
 f informal songs and traditional hymns.  Preaching will be from the curren
 t sermon series.  Holy Communion on first and third Sundays.  Please visit
  our website for up to date information.
GEO:-1.374072;51.779663
LOCATION:St Leonard's Church\, Eynsham
URL:https://www.achurchnearyou.com/church/112/service-and-events/events/17
 42/
END:VEVENT
BEGIN:VEVENT
SUMMARY:Morning Service
DTSTART;TZID=Europe/London:20260531T103000
DTEND;TZID=Europe/London:20260531T113000
DTSTAMP:20260420T112131Z
UID:17421780219800.0achurchnearyou
CATEGORIES:
DESCRIPTION:A  modern\,  relevant morning service usually with a mixture o
 f informal songs and traditional hymns.  Preaching will be from the curren
 t sermon series.  Holy Communion on first and third Sundays.  Please visit
  our website for up to date information.
GEO:-1.374072;51.779663
LOCATION:St Leonard's Church\, Eynsham
URL:https://www.achurchnearyou.com/church/112/service-and-events/events/17
 42/
END:VEVENT
BEGIN:VEVENT
SUMMARY:Morning Service
DTSTART;TZID=Europe/London:20260607T103000
DTEND;TZID=Europe/London:20260607T113000
DTSTAMP:20260420T112131Z
UID:17421780824600.0achurchnearyou
CATEGORIES:
DESCRIPTION:A  modern\,  relevant morning service usually with a mixture o
 f informal songs and traditional hymns.  Preaching will be from the curren
 t sermon series.  Holy Communion on first and third Sundays.  Please visit
  our website for up to date information.
GEO:-1.374072;51.779663
LOCATION:St Leonard's Church\, Eynsham
URL:https://www.achurchnearyou.com/church/112/service-and-events/events/17
 42/
END:VEVENT
BEGIN:VEVENT
SUMMARY:Holy Communion
DTSTART;TZID=Europe/London:20260614T090000
DTEND;TZID=Europe/London:20260614T100000
DTSTAMP:20260420T112131Z
UID:8238071781424000.0achurchnearyou
CATEGORIES:
DESCRIPTION:A quiet\, reflective Holy Communion service with hymns on the 
 second and fourth Sunday of the month.  Please see our website for up to d
 ate information.
GEO:-1.374072;51.779663
LOCATION:St Leonard's Church\, Eynsham
URL:https://www.achurchnearyou.com/church/112/service-and-events/events/82
 3807/
END:VEVENT
BEGIN:VEVENT
SUMMARY:Morning Service
DTSTART;TZID=Europe/London:20260614T103000
DTEND;TZID=Europe/London:20260614T113000
DTSTAMP:20260420T112131Z
UID:17421781429400.0achurchnearyou
CATEGORIES:
DESCRIPTION:A  modern\,  relevant morning service usually with a mixture o
 f informal songs and traditional hymns.  Preaching will be from the curren
 t sermon series.  Holy Communion on first and third Sundays.  Please visit
  our website for up to date information.
GEO:-1.374072;51.779663
LOCATION:St Leonard's Church\, Eynsham
URL:https://www.achurchnearyou.com/church/112/service-and-events/events/17
 42/
END:VEVENT
BEGIN:VEVENT
SUMMARY:Morning Service
DTSTART;TZID=Europe/London:20260621T103000
DTEND;TZID=Europe/London:20260621T113000
DTSTAMP:20260420T112131Z
UID:17421782034200.0achurchnearyou
CATEGORIES:
DESCRIPTION:A  modern\,  relevant morning service usually with a mixture o
 f informal songs and traditional hymns.  Preaching will be from the curren
 t sermon series.  Holy Communion on first and third Sundays.  Please visit
  our website for up to date information.
GEO:-1.374072;51.779663
LOCATION:St Leonard's Church\, Eynsham
URL:https://www.achurchnearyou.com/church/112/service-and-events/events/17
 42/
END:VEVENT
BEGIN:VEVENT
SUMMARY:Holy Communion
DTSTART;TZID=Europe/London:20260628T090000
DTEND;TZID=Europe/London:20260628T100000
DTSTAMP:20260420T112131Z
UID:8238071782633600.0achurchnearyou
CATEGORIES:
DESCRIPTION:A quiet\, reflective Holy Communion service with hymns on the 
 second and fourth Sunday of the month.  Please see our website for up to d
 ate information.
GEO:-1.374072;51.779663
LOCATION:St Leonard's Church\, Eynsham
URL:https://www.achurchnearyou.com/church/112/service-and-events/events/82
 3807/
END:VEVENT
BEGIN:VEVENT
SUMMARY:Morning Service
DTSTART;TZID=Europe/London:20260628T103000
DTEND;TZID=Europe/London:20260628T113000
DTSTAMP:20260420T112131Z
UID:17421782639000.0achurchnearyou
CATEGORIES:
DESCRIPTION:A  modern\,  relevant morning service usually with a mixture o
 f informal songs and traditional hymns.  Preaching will be from the curren
 t sermon series.  Holy Communion on first and third Sundays.  Please visit
  our website for up to date information.
GEO:-1.374072;51.779663
LOCATION:St Leonard's Church\, Eynsham
URL:https://www.achurchnearyou.com/church/112/service-and-events/events/17
 42/
END:VEVENT
BEGIN:VEVENT
SUMMARY:Morning Service
DTSTART;TZID=Europe/London:20260705T103000
DTEND;TZID=Europe/London:20260705T113000
DTSTAMP:20260420T112131Z
UID:17421783243800.0achurchnearyou
CATEGORIES:
DESCRIPTION:A  modern\,  relevant morning service usually with a mixture o
 f informal songs and traditional hymns.  Preaching will be from the curren
 t sermon series.  Holy Communion on first and third Sundays.  Please visit
  our website for up to date information.
GEO:-1.374072;51.779663
LOCATION:St Leonard's Church\, Eynsham
URL:https://www.achurchnearyou.com/church/112/service-and-events/events/17
 42/
END:VEVENT
BEGIN:VEVENT
SUMMARY:Holy Communion
DTSTART;TZID=Europe/London:20260712T090000
DTEND;TZID=Europe/London:20260712T100000
DTSTAMP:20260420T112131Z
UID:8238071783843200.0achurchnearyou
CATEGORIES:
DESCRIPTION:A quiet\, reflective Holy Communion service with hymns on the 
 second and fourth Sunday of the month.  Please see our website for up to d
 ate information.
GEO:-1.374072;51.779663
LOCATION:St Leonard's Church\, Eynsham
URL:https://www.achurchnearyou.com/church/112/service-and-events/events/82
 3807/
END:VEVENT
BEGIN:VEVENT
SUMMARY:Morning Service
DTSTART;TZID=Europe/London:20260712T103000
DTEND;TZID=Europe/London:20260712T113000
DTSTAMP:20260420T112131Z
UID:17421783848600.0achurchnearyou
CATEGORIES:
DESCRIPTION:A  modern\,  relevant morning service usually with a mixture o
 f informal songs and traditional hymns.  Preaching will be from the curren
 t sermon series.  Holy Communion on first and third Sundays.  Please visit
  our website for up to date information.
GEO:-1.374072;51.779663
LOCATION:St Leonard's Church\, Eynsham
URL:https://www.achurchnearyou.com/church/112/service-and-events/events/17
 42/
END:VEVENT
BEGIN:VEVENT
SUMMARY:Morning Service
DTSTART;TZID=Europe/London:20260719T103000
DTEND;TZID=Europe/London:20260719T113000
DTSTAMP:20260420T112131Z
UID:17421784453400.0achurchnearyou
CATEGORIES:
DESCRIPTION:A  modern\,  relevant morning service usually with a mixture o
 f informal songs and traditional hymns.  Preaching will be from the curren
 t sermon series.  Holy Communion on first and third Sundays.  Please visit
  our website for up to date information.
GEO:-1.374072;51.779663
LOCATION:St Leonard's Church\, Eynsham
URL:https://www.achurchnearyou.com/church/112/service-and-events/events/17
 42/
END:VEVENT
BEGIN:VEVENT
SUMMARY:Holy Communion
DTSTART;TZID=Europe/London:20260726T090000
DTEND;TZID=Europe/London:20260726T100000
DTSTAMP:20260420T112131Z
UID:8238071785052800.0achurchnearyou
CATEGORIES:
DESCRIPTION:A quiet\, reflective Holy Communion service with hymns on the 
 second and fourth Sunday of the month.  Please see our website for up to d
 ate information.
GEO:-1.374072;51.779663
LOCATION:St Leonard's Church\, Eynsham
URL:https://www.achurchnearyou.com/church/112/service-and-events/events/82
 3807/
END:VEVENT
BEGIN:VEVENT
SUMMARY:Morning Service
DTSTART;TZID=Europe/London:20260726T103000
DTEND;TZID=Europe/London:20260726T113000
DTSTAMP:20260420T112131Z
UID:17421785058200.0achurchnearyou
CATEGORIES:
DESCRIPTION:A  modern\,  relevant morning service usually with a mixture o
 f informal songs and traditional hymns.  Preaching will be from the curren
 t sermon series.  Holy Communion on first and third Sundays.  Please visit
  our website for up to date information.
GEO:-1.374072;51.779663
LOCATION:St Leonard's Church\, Eynsham
URL:https://www.achurchnearyou.com/church/112/service-and-events/events/17
 42/
END:VEVENT
BEGIN:VEVENT
SUMMARY:Morning Service
DTSTART;TZID=Europe/London:20260802T103000
DTEND;TZID=Europe/London:20260802T113000
DTSTAMP:20260420T112131Z
UID:17421785663000.0achurchnearyou
CATEGORIES:
DESCRIPTION:A  modern\,  relevant morning service usually with a mixture o
 f informal songs and traditional hymns.  Preaching will be from the curren
 t sermon series.  Holy Communion on first and third Sundays.  Please visit
  our website for up to date information.
GEO:-1.374072;51.779663
LOCATION:St Leonard's Church\, Eynsham
URL:https://www.achurchnearyou.com/church/112/service-and-events/events/17
 42/
END:VEVENT
BEGIN:VEVENT
SUMMARY:Holy Communion
DTSTART;TZID=Europe/London:20260809T090000
DTEND;TZID=Europe/London:20260809T100000
DTSTAMP:20260420T112131Z
UID:8238071786262400.0achurchnearyou
CATEGORIES:
DESCRIPTION:A quiet\, reflective Holy Communion service with hymns on the 
 second and fourth Sunday of the month.  Please see our website for up to d
 ate information.
GEO:-1.374072;51.779663
LOCATION:St Leonard's Church\, Eynsham
URL:https://www.achurchnearyou.com/church/112/service-and-events/events/82
 3807/
END:VEVENT
BEGIN:VEVENT
SUMMARY:Morning Service
DTSTART;TZID=Europe/London:20260809T103000
DTEND;TZID=Europe/London:20260809T113000
DTSTAMP:20260420T112131Z
UID:17421786267800.0achurchnearyou
CATEGORIES:
DESCRIPTION:A  modern\,  relevant morning service usually with a mixture o
 f informal songs and traditional hymns.  Preaching will be from the curren
 t sermon series.  Holy Communion on first and third Sundays.  Please visit
  our website for up to date information.
GEO:-1.374072;51.779663
LOCATION:St Leonard's Church\, Eynsham
URL:https://www.achurchnearyou.com/church/112/service-and-events/events/17
 42/
END:VEVENT
BEGIN:VEVENT
SUMMARY:Morning Service
DTSTART;TZID=Europe/London:20260816T103000
DTEND;TZID=Europe/London:20260816T113000
DTSTAMP:20260420T112131Z
UID:17421786872600.0achurchnearyou
CATEGORIES:
DESCRIPTION:A  modern\,  relevant morning service usually with a mixture o
 f informal songs and traditional hymns.  Preaching will be from the curren
 t sermon series.  Holy Communion on first and third Sundays.  Please visit
  our website for up to date information.
GEO:-1.374072;51.779663
LOCATION:St Leonard's Church\, Eynsham
URL:https://www.achurchnearyou.com/church/112/service-and-events/events/17
 42/
END:VEVENT
BEGIN:VEVENT
SUMMARY:Holy Communion
DTSTART;TZID=Europe/London:20260823T090000
DTEND;TZID=Europe/London:20260823T100000
DTSTAMP:20260420T112131Z
UID:8238071787472000.0achurchnearyou
CATEGORIES:
DESCRIPTION:A quiet\, reflective Holy Communion service with hymns on the 
 second and fourth Sunday of the month.  Please see our website for up to d
 ate information.
GEO:-1.374072;51.779663
LOCATION:St Leonard's Church\, Eynsham
URL:https://www.achurchnearyou.com/church/112/service-and-events/events/82
 3807/
END:VEVENT
BEGIN:VEVENT
SUMMARY:Morning Service
DTSTART;TZID=Europe/London:20260823T103000
DTEND;TZID=Europe/London:20260823T113000
DTSTAMP:20260420T112131Z
UID:17421787477400.0achurchnearyou
CATEGORIES:
DESCRIPTION:A  modern\,  relevant morning service usually with a mixture o
 f informal songs and traditional hymns.  Preaching will be from the curren
 t sermon series.  Holy Communion on first and third Sundays.  Please visit
  our website for up to date information.
GEO:-1.374072;51.779663
LOCATION:St Leonard's Church\, Eynsham
URL:https://www.achurchnearyou.com/church/112/service-and-events/events/17
 42/
END:VEVENT
BEGIN:VEVENT
SUMMARY:Morning Service
DTSTART;TZID=Europe/London:20260830T103000
DTEND;TZID=Europe/London:20260830T113000
DTSTAMP:20260420T112131Z
UID:17421788082200.0achurchnearyou
CATEGORIES:
DESCRIPTION:A  modern\,  relevant morning service usually with a mixture o
 f informal songs and traditional hymns.  Preaching will be from the curren
 t sermon series.  Holy Communion on first and third Sundays.  Please visit
  our website for up to date information.
GEO:-1.374072;51.779663
LOCATION:St Leonard's Church\, Eynsham
URL:https://www.achurchnearyou.com/church/112/service-and-events/events/17
 42/
END:VEVENT
BEGIN:VEVENT
SUMMARY:Morning Service
DTSTART;TZID=Europe/London:20260906T103000
DTEND;TZID=Europe/London:20260906T113000
DTSTAMP:20260420T112131Z
UID:17421788687000.0achurchnearyou
CATEGORIES:
DESCRIPTION:A  modern\,  relevant morning service usually with a mixture o
 f informal songs and traditional hymns.  Preaching will be from the curren
 t sermon series.  Holy Communion on first and third Sundays.  Please visit
  our website for up to date information.
GEO:-1.374072;51.779663
LOCATION:St Leonard's Church\, Eynsham
URL:https://www.achurchnearyou.com/church/112/service-and-events/events/17
 42/
END:VEVENT
BEGIN:VEVENT
SUMMARY:Holy Communion
DTSTART;TZID=Europe/London:20260913T090000
DTEND;TZID=Europe/London:20260913T100000
DTSTAMP:20260420T112131Z
UID:8238071789286400.0achurchnearyou
CATEGORIES:
DESCRIPTION:A quiet\, reflective Holy Communion service with hymns on the 
 second and fourth Sunday of the month.  Please see our website for up to d
 ate information.
GEO:-1.374072;51.779663
LOCATION:St Leonard's Church\, Eynsham
URL:https://www.achurchnearyou.com/church/112/service-and-events/events/82
 3807/
END:VEVENT
BEGIN:VEVENT
SUMMARY:Morning Service
DTSTART;TZID=Europe/London:20260913T103000
DTEND;TZID=Europe/London:20260913T113000
DTSTAMP:20260420T112131Z
UID:17421789291800.0achurchnearyou
CATEGORIES:
DESCRIPTION:A  modern\,  relevant morning service usually with a mixture o
 f informal songs and traditional hymns.  Preaching will be from the curren
 t sermon series.  Holy Communion on first and third Sundays.  Please visit
  our website for up to date information.
GEO:-1.374072;51.779663
LOCATION:St Leonard's Church\, Eynsham
URL:https://www.achurchnearyou.com/church/112/service-and-events/events/17
 42/
END:VEVENT
BEGIN:VEVENT
SUMMARY:Morning Service
DTSTART;TZID=Europe/London:20260920T103000
DTEND;TZID=Europe/London:20260920T113000
DTSTAMP:20260420T112131Z
UID:17421789896600.0achurchnearyou
CATEGORIES:
DESCRIPTION:A  modern\,  relevant morning service usually with a mixture o
 f informal songs and traditional hymns.  Preaching will be from the curren
 t sermon series.  Holy Communion on first and third Sundays.  Please visit
  our website for up to date information.
GEO:-1.374072;51.779663
LOCATION:St Leonard's Church\, Eynsham
URL:https://www.achurchnearyou.com/church/112/service-and-events/events/17
 42/
END:VEVENT
BEGIN:VEVENT
SUMMARY:Holy Communion
DTSTART;TZID=Europe/London:20260927T090000
DTEND;TZID=Europe/London:20260927T100000
DTSTAMP:20260420T112131Z
UID:8238071790496000.0achurchnearyou
CATEGORIES:
DESCRIPTION:A quiet\, reflective Holy Communion service with hymns on the 
 second and fourth Sunday of the month.  Please see our website for up to d
 ate information.
GEO:-1.374072;51.779663
LOCATION:St Leonard's Church\, Eynsham
URL:https://www.achurchnearyou.com/church/112/service-and-events/events/82
 3807/
END:VEVENT
BEGIN:VEVENT
SUMMARY:Morning Service
DTSTART;TZID=Europe/London:20260927T103000
DTEND;TZID=Europe/London:20260927T113000
DTSTAMP:20260420T112131Z
UID:17421790501400.0achurchnearyou
CATEGORIES:
DESCRIPTION:A  modern\,  relevant morning service usually with a mixture o
 f informal songs and traditional hymns.  Preaching will be from the curren
 t sermon series.  Holy Communion on first and third Sundays.  Please visit
  our website for up to date information.
GEO:-1.374072;51.779663
LOCATION:St Leonard's Church\, Eynsham
URL:https://www.achurchnearyou.com/church/112/service-and-events/events/17
 42/
END:VEVENT
END:VCALENDAR
