BEGIN:VCALENDAR
VERSION:2.0
PRODID:-//achurchnearyou.com//eventfeed//EN
CALSCALE:GREGORIAN
METHOD:PUBLISH
X-WR-TIMEZONE:UTC
BEGIN:VEVENT
SUMMARY:Good Friday
DTSTART:20250418T130000Z
DTEND:20250418T140000Z
DTSTAMP:20260419T202930Z
UID:11847092025-04-18 13:00:00+00:00achurchnearyou
CATEGORIES:
DESCRIPTION:An Hour at the Cross.\nA service to reflect on Jesus last hour
 .
LOCATION:St Mary's\, Cossington
URL:https://www.achurchnearyou.com/church/11220/service-and-events/events/
 1184709/
END:VEVENT
END:VCALENDAR
