BEGIN:VCALENDAR
VERSION:2.0
PRODID:-//achurchnearyou.com//eventfeed//EN
CALSCALE:GREGORIAN
METHOD:PUBLISH
X-WR-TIMEZONE:UTC
BEGIN:VEVENT
SUMMARY:Celebrate Somerset Day
DTSTART:20250510T140000Z
DTEND:20250510T150000Z
DTSTAMP:20260419T164956Z
UID:11969882025-05-10 14:00:00+00:00achurchnearyou
CATEGORIES:
DESCRIPTION:Come to Church or the Churchyard for Tea & Somerset Apple Cake
  from 3.00 to 4.00 pm on Saturday 10th May
GEO:-3.001623;51.178754
LOCATION:St John The Baptist\, Pawlett
URL:https://www.achurchnearyou.com/church/11220/service-and-events/events/
 1196988/
END:VEVENT
END:VCALENDAR
