BEGIN:VCALENDAR
VERSION:2.0
PRODID:-//achurchnearyou.com//eventfeed//EN
CALSCALE:GREGORIAN
METHOD:PUBLISH
X-WR-TIMEZONE:UTC
BEGIN:VEVENT
SUMMARY:Easter Sunday Service
DTSTART:20250420T093000Z
DTEND:20250420T103000Z
DTSTAMP:20260419T171108Z
UID:11768142025-04-20 09:30:00+00:00achurchnearyou
CATEGORIES:
DESCRIPTION:Family Communion Service celebrating the resurrection of Jesus
GEO:-2.927498;51.108712
LOCATION:St Mary's Church\, Westonzoyland
URL:https://www.achurchnearyou.com/church/11225/service-and-events/events/
 1176814/
END:VEVENT
END:VCALENDAR
