BEGIN:VCALENDAR
VERSION:2.0
PRODID:-//achurchnearyou.com//eventfeed//EN
CALSCALE:GREGORIAN
METHOD:PUBLISH
X-WR-TIMEZONE:UTC
BEGIN:VEVENT
SUMMARY:Light Up The Fire
DTSTART:20250119T153000Z
DTEND:20250119T163000Z
DTSTAMP:20260420T052029Z
UID:11429022025-01-19 15:30:00+00:00achurchnearyou
CATEGORIES:
DESCRIPTION:An opportunity to gather together for some outside reflection.
LOCATION:The Elms\, Perris\, Hatch Beauchamp
URL:https://www.achurchnearyou.com/church/11259/service-and-events/events/
 1142902/
END:VEVENT
END:VCALENDAR
