BEGIN:VCALENDAR
VERSION:2.0
PRODID:-//achurchnearyou.com//eventfeed//EN
CALSCALE:GREGORIAN
METHOD:PUBLISH
X-WR-TIMEZONE:UTC
BEGIN:VEVENT
SUMMARY:Priesting of our curate\, Revd Julie Kimber
DTSTART:20250628T130000Z
DTEND:20250628T140000Z
DTSTAMP:20260419T151016Z
UID:11965852025-06-28 13:00:00+00:00achurchnearyou
CATEGORIES:
DESCRIPTION:All welcome to show support for Julie as she is Priested at We
 lls Cathedral.
LOCATION:Wells Cathedral
URL:https://www.achurchnearyou.com/church/11259/service-and-events/events/
 1196585/
END:VEVENT
END:VCALENDAR
