BEGIN:VCALENDAR
VERSION:2.0
PRODID:-//achurchnearyou.com//eventfeed//EN
CALSCALE:GREGORIAN
METHOD:PUBLISH
X-WR-TIMEZONE:UTC
BEGIN:VEVENT
SUMMARY:Morning Worship
DTSTART:20250713T090000Z
DTEND:20250713T100000Z
DTSTAMP:20260419T131227Z
UID:11992572025-07-13 09:00:00+00:00achurchnearyou
CATEGORIES:
DESCRIPTION:Morning Worship led by Tim Fraser
GEO:-2.95035;50.983702
LOCATION:All Saints Church\, Curry Mallet
URL:https://www.achurchnearyou.com/church/11259/service-and-events/events/
 1199257/
END:VEVENT
END:VCALENDAR
