BEGIN:VCALENDAR
VERSION:2.0
PRODID:-//achurchnearyou.com//eventfeed//EN
CALSCALE:GREGORIAN
METHOD:PUBLISH
X-WR-TIMEZONE:UTC
BEGIN:VEVENT
SUMMARY:Night Prayer - reflective service
DTSTART:20250416T193000Z
DTEND:20250416T201500Z
DTSTAMP:20260425T015130Z
UID:11553712025-04-16 19:30:00+00:00achurchnearyou
CATEGORIES:
DESCRIPTION:A service of Night Prayer in Holy Week\, for all the 7 parishe
 s in the to-be-extended benefice.
GEO:-2.868784;51.024678
LOCATION:St Andrew's\, Curry Rivel
URL:https://www.achurchnearyou.com/church/11260/service-and-events/events/
 1155371/
END:VEVENT
END:VCALENDAR
