BEGIN:VCALENDAR
VERSION:2.0
PRODID:-//achurchnearyou.com//eventfeed//EN
CALSCALE:GREGORIAN
METHOD:PUBLISH
X-WR-TIMEZONE:UTC
BEGIN:VEVENT
SUMMARY:Pre-easter Family gathering
DTSTART:20250419T093000Z
DTEND:20250419T113000Z
DTSTAMP:20260425T001846Z
UID:11553752025-04-19 09:30:00+00:00achurchnearyou
CATEGORIES:
DESCRIPTION:Easter Family Coffee\, Crafts & Hot Cross Buns\, in the Old Sc
 hool Room
GEO:-2.868784;51.024678
LOCATION:St Andrew's\, Curry Rivel
URL:https://www.achurchnearyou.com/church/11260/service-and-events/events/
 1155375/
END:VEVENT
END:VCALENDAR
