BEGIN:VCALENDAR
VERSION:2.0
PRODID:-//achurchnearyou.com//eventfeed//EN
CALSCALE:GREGORIAN
METHOD:PUBLISH
X-WR-TIMEZONE:UTC
BEGIN:VEVENT
SUMMARY:United Benefice Holy Communion
DTSTART:20250427T090000Z
DTEND:20250427T100000Z
DTSTAMP:20260424T165252Z
UID:11553772025-04-27 09:00:00+00:00achurchnearyou
CATEGORIES:
DESCRIPTION:A service of Holy Communion for all 3 parishes in the benefice
  - in St. Andrew's.  Refreshments afterwards\, in the Old School Room\, to
  say farewell to our Curate Rev Mark Mcknight and his family.
GEO:-2.868784;51.024678
LOCATION:St Andrew's\, Curry Rivel
URL:https://www.achurchnearyou.com/church/11260/service-and-events/events/
 1155377/
END:VEVENT
END:VCALENDAR
