BEGIN:VCALENDAR
VERSION:2.0
PRODID:-//achurchnearyou.com//eventfeed//EN
CALSCALE:GREGORIAN
METHOD:PUBLISH
X-WR-TIMEZONE:UTC
BEGIN:VEVENT
SUMMARY:Compline for Good Friday
DTSTART:20250418T170000Z
DTEND:20250418T180000Z
DTSTAMP:20260419T152652Z
UID:11941422025-04-18 17:00:00+00:00achurchnearyou
CATEGORIES:
DESCRIPTION:A service of evening prayer on Good Friday
GEO:-2.90042;51.008198
LOCATION:St Catherine's\, Swell
URL:https://www.achurchnearyou.com/church/11264/service-and-events/events/
 1194142/
END:VEVENT
END:VCALENDAR
