BEGIN:VCALENDAR
VERSION:2.0
PRODID:-//achurchnearyou.com//eventfeed//EN
CALSCALE:GREGORIAN
METHOD:PUBLISH
X-WR-TIMEZONE:UTC
BEGIN:VEVENT
SUMMARY:Epiphany Taize Service
DTSTART:20250106T170000Z
DTEND:20250106T180000Z
DTSTAMP:20260420T040350Z
UID:11429482025-01-06 17:00:00+00:00achurchnearyou
CATEGORIES:
DESCRIPTION:Marking the Epiphany with our Taize Service
LOCATION:St Thomas' Church
URL:https://www.achurchnearyou.com/church/11281/service-and-events/events/
 1142948/
END:VEVENT
END:VCALENDAR
