BEGIN:VCALENDAR
VERSION:2.0
PRODID:-//achurchnearyou.com//eventfeed//EN
CALSCALE:GREGORIAN
METHOD:PUBLISH
X-WR-TIMEZONE:UTC
BEGIN:VEVENT
SUMMARY:Messy Church
DTSTART:20250111T153000Z
DTEND:20250111T163000Z
DTSTAMP:20260420T021045Z
UID:11453662025-01-11 15:30:00+00:00achurchnearyou
CATEGORIES:
DESCRIPTION:Messy Church - fun for all ages
LOCATION:Hatch Beauchamp Village Hall
URL:https://www.achurchnearyou.com/church/11281/service-and-events/events/
 1145366/
END:VEVENT
END:VCALENDAR
