BEGIN:VCALENDAR
VERSION:2.0
PRODID:-//achurchnearyou.com//eventfeed//EN
CALSCALE:GREGORIAN
METHOD:PUBLISH
X-WR-TIMEZONE:UTC
BEGIN:VEVENT
SUMMARY:Communion Service
DTSTART:20250511T090000Z
DTEND:20250511T100000Z
DTSTAMP:20260419T183911Z
UID:11927612025-05-11 09:00:00+00:00achurchnearyou
CATEGORIES:
DESCRIPTION:Communion Service led by Revd Martin Kirkbride and Revd Julie 
 Kimber
GEO:-3.019482;50.984099
LOCATION:St Andrew's Church\, West Hatch
URL:https://www.achurchnearyou.com/church/11281/service-and-events/events/
 1192761/
END:VEVENT
END:VCALENDAR
