BEGIN:VCALENDAR
VERSION:2.0
PRODID:-//achurchnearyou.com//eventfeed//EN
CALSCALE:GREGORIAN
METHOD:PUBLISH
X-WR-TIMEZONE:UTC
BEGIN:VEVENT
SUMMARY:Folk Music Service At Culbone
DTSTART:20260503T100000Z
DTEND:20260503T110000Z
DTSTAMP:20260423T065328Z
UID:11571412026-05-03 10:00:00+00:00achurchnearyou
CATEGORIES:
DESCRIPTION:This Sunday\, the service will be accompanied by acclaimed loc
 al folk musicians Mervyn Mewis on dulcimer and Kathryn Young on harp. It i
 s a rare chance to hear these instruments being played in a church\, as th
 ey would have been for many hundreds of years.
GEO:-3.659358;51.221426
LOCATION:Culbone Church
URL:https://www.achurchnearyou.com/church/11291/service-and-events/events/
 1157141/
END:VEVENT
END:VCALENDAR
