BEGIN:VCALENDAR
VERSION:2.0
PRODID:-//achurchnearyou.com//eventfeed//EN
CALSCALE:GREGORIAN
METHOD:PUBLISH
X-WR-TIMEZONE:UTC
BEGIN:VEVENT
SUMMARY:Quiz Night with Buffet
DTSTART:20251122T183000Z
DTEND:20251122T213000Z
DTSTAMP:20260422T044726Z
UID:12434932025-11-22 18:30:00+00:00achurchnearyou
CATEGORIES:
DESCRIPTION:In support of St Dubricius Spire. £10 per head\, booking esse
 ntial. See attached flyer for details
LOCATION:St Dubricius School Hall
URL:https://www.achurchnearyou.com/church/11306/service-and-events/events/
 1243493/
END:VEVENT
END:VCALENDAR
