BEGIN:VCALENDAR
VERSION:2.0
PRODID:-//achurchnearyou.com//eventfeed//EN
CALSCALE:GREGORIAN
METHOD:PUBLISH
X-WR-TIMEZONE:UTC
BEGIN:VEVENT
SUMMARY:St Dubricius Family Christmas Day Service f/b Holy Communion
DTSTART:20251225T103000Z
DTEND:20251225T113000Z
DTSTAMP:20260422T021636Z
UID:5376952025-12-25 10:30:00+00:00achurchnearyou
CATEGORIES:
DESCRIPTION:Christmas Day service followed by said Holy Communion
GEO:-3.595579;51.208294
LOCATION:St Dubricius Church\, Porlock
URL:https://www.achurchnearyou.com/church/11306/service-and-events/events/
 537695/
END:VEVENT
END:VCALENDAR
