BEGIN:VCALENDAR
VERSION:2.0
PRODID:-//achurchnearyou.com//eventfeed//EN
CALSCALE:GREGORIAN
METHOD:PUBLISH
X-WR-TIMEZONE:UTC
BEGIN:VEVENT
SUMMARY:Christingle Service
DTSTART:20251205T143000Z
DTEND:20251205T153000Z
DTSTAMP:20260422T021702Z
UID:9903452025-12-05 14:30:00+00:00achurchnearyou
CATEGORIES:
DESCRIPTION:Traditional Christingle Service
GEO:-3.595579;51.208294
LOCATION:St Dubricius Church\, Porlock
URL:https://www.achurchnearyou.com/church/11306/service-and-events/events/
 990345/
END:VEVENT
END:VCALENDAR
