BEGIN:VCALENDAR
VERSION:2.0
PRODID:-//achurchnearyou.com//eventfeed//EN
CALSCALE:GREGORIAN
METHOD:PUBLISH
X-WR-TIMEZONE:UTC
BEGIN:VEVENT
SUMMARY:BCP Matins
DTSTART;TZID=Europe/London:20260503T110000
DTEND;TZID=Europe/London:20260503T120000
DTSTAMP:20260424T234930Z
UID:6083172026-05-03 11:00:00+01:00achurchnearyou
CATEGORIES:
DESCRIPTION:SERVICES TAKING PLACE AT LYNCH CHAPEL UNTIL PALM SUNDAY (excep
 t for Christmas morning) Book of Common Prayer Matins takes place every 1s
 t Sunday of the month
GEO:-3.547797;51.210204
LOCATION:All Saints
URL:https://www.achurchnearyou.com/church/11308/service-and-events/events/
 608317/
END:VEVENT
BEGIN:VEVENT
SUMMARY:BCP Matins
DTSTART;TZID=Europe/London:20260607T110000
DTEND;TZID=Europe/London:20260607T120000
DTSTAMP:20260424T234930Z
UID:6083172026-06-07 11:00:00+01:00achurchnearyou
CATEGORIES:
DESCRIPTION:SERVICES TAKING PLACE AT LYNCH CHAPEL UNTIL PALM SUNDAY (excep
 t for Christmas morning) Book of Common Prayer Matins takes place every 1s
 t Sunday of the month
GEO:-3.547797;51.210204
LOCATION:All Saints
URL:https://www.achurchnearyou.com/church/11308/service-and-events/events/
 608317/
END:VEVENT
BEGIN:VEVENT
SUMMARY:BCP Matins
DTSTART;TZID=Europe/London:20260705T110000
DTEND;TZID=Europe/London:20260705T120000
DTSTAMP:20260424T234930Z
UID:6083172026-07-05 11:00:00+01:00achurchnearyou
CATEGORIES:
DESCRIPTION:SERVICES TAKING PLACE AT LYNCH CHAPEL UNTIL PALM SUNDAY (excep
 t for Christmas morning) Book of Common Prayer Matins takes place every 1s
 t Sunday of the month
GEO:-3.547797;51.210204
LOCATION:All Saints
URL:https://www.achurchnearyou.com/church/11308/service-and-events/events/
 608317/
END:VEVENT
BEGIN:VEVENT
SUMMARY:BCP Matins
DTSTART;TZID=Europe/London:20260802T110000
DTEND;TZID=Europe/London:20260802T120000
DTSTAMP:20260424T234930Z
UID:6083172026-08-02 11:00:00+01:00achurchnearyou
CATEGORIES:
DESCRIPTION:SERVICES TAKING PLACE AT LYNCH CHAPEL UNTIL PALM SUNDAY (excep
 t for Christmas morning) Book of Common Prayer Matins takes place every 1s
 t Sunday of the month
GEO:-3.547797;51.210204
LOCATION:All Saints
URL:https://www.achurchnearyou.com/church/11308/service-and-events/events/
 608317/
END:VEVENT
BEGIN:VEVENT
SUMMARY:BCP Matins
DTSTART;TZID=Europe/London:20260906T110000
DTEND;TZID=Europe/London:20260906T120000
DTSTAMP:20260424T234930Z
UID:6083172026-09-06 11:00:00+01:00achurchnearyou
CATEGORIES:
DESCRIPTION:SERVICES TAKING PLACE AT LYNCH CHAPEL UNTIL PALM SUNDAY (excep
 t for Christmas morning) Book of Common Prayer Matins takes place every 1s
 t Sunday of the month
GEO:-3.547797;51.210204
LOCATION:All Saints
URL:https://www.achurchnearyou.com/church/11308/service-and-events/events/
 608317/
END:VEVENT
BEGIN:VEVENT
SUMMARY:BCP Matins
DTSTART;TZID=Europe/London:20261004T110000
DTEND;TZID=Europe/London:20261004T120000
DTSTAMP:20260424T234930Z
UID:6083172026-10-04 11:00:00+01:00achurchnearyou
CATEGORIES:
DESCRIPTION:SERVICES TAKING PLACE AT LYNCH CHAPEL UNTIL PALM SUNDAY (excep
 t for Christmas morning) Book of Common Prayer Matins takes place every 1s
 t Sunday of the month
GEO:-3.547797;51.210204
LOCATION:All Saints
URL:https://www.achurchnearyou.com/church/11308/service-and-events/events/
 608317/
END:VEVENT
BEGIN:VEVENT
SUMMARY:BCP Matins
DTSTART;TZID=Europe/London:20261101T110000
DTEND;TZID=Europe/London:20261101T120000
DTSTAMP:20260424T234930Z
UID:6083172026-11-01 11:00:00+00:00achurchnearyou
CATEGORIES:
DESCRIPTION:SERVICES TAKING PLACE AT LYNCH CHAPEL UNTIL PALM SUNDAY (excep
 t for Christmas morning) Book of Common Prayer Matins takes place every 1s
 t Sunday of the month
GEO:-3.547797;51.210204
LOCATION:All Saints
URL:https://www.achurchnearyou.com/church/11308/service-and-events/events/
 608317/
END:VEVENT
BEGIN:VEVENT
SUMMARY:BCP Matins
DTSTART;TZID=Europe/London:20261206T110000
DTEND;TZID=Europe/London:20261206T120000
DTSTAMP:20260424T234930Z
UID:6083172026-12-06 11:00:00+00:00achurchnearyou
CATEGORIES:
DESCRIPTION:SERVICES TAKING PLACE AT LYNCH CHAPEL UNTIL PALM SUNDAY (excep
 t for Christmas morning) Book of Common Prayer Matins takes place every 1s
 t Sunday of the month
GEO:-3.547797;51.210204
LOCATION:All Saints
URL:https://www.achurchnearyou.com/church/11308/service-and-events/events/
 608317/
END:VEVENT
BEGIN:VEVENT
SUMMARY:BCP Matins
DTSTART;TZID=Europe/London:20270103T110000
DTEND;TZID=Europe/London:20270103T120000
DTSTAMP:20260424T234930Z
UID:6083172027-01-03 11:00:00+00:00achurchnearyou
CATEGORIES:
DESCRIPTION:SERVICES TAKING PLACE AT LYNCH CHAPEL UNTIL PALM SUNDAY (excep
 t for Christmas morning) Book of Common Prayer Matins takes place every 1s
 t Sunday of the month
GEO:-3.547797;51.210204
LOCATION:All Saints
URL:https://www.achurchnearyou.com/church/11308/service-and-events/events/
 608317/
END:VEVENT
BEGIN:VEVENT
SUMMARY:BCP Matins
DTSTART;TZID=Europe/London:20270207T110000
DTEND;TZID=Europe/London:20270207T120000
DTSTAMP:20260424T234930Z
UID:6083172027-02-07 11:00:00+00:00achurchnearyou
CATEGORIES:
DESCRIPTION:SERVICES TAKING PLACE AT LYNCH CHAPEL UNTIL PALM SUNDAY (excep
 t for Christmas morning) Book of Common Prayer Matins takes place every 1s
 t Sunday of the month
GEO:-3.547797;51.210204
LOCATION:All Saints
URL:https://www.achurchnearyou.com/church/11308/service-and-events/events/
 608317/
END:VEVENT
BEGIN:VEVENT
SUMMARY:BCP Matins
DTSTART;TZID=Europe/London:20270307T110000
DTEND;TZID=Europe/London:20270307T120000
DTSTAMP:20260424T234930Z
UID:6083172027-03-07 11:00:00+00:00achurchnearyou
CATEGORIES:
DESCRIPTION:SERVICES TAKING PLACE AT LYNCH CHAPEL UNTIL PALM SUNDAY (excep
 t for Christmas morning) Book of Common Prayer Matins takes place every 1s
 t Sunday of the month
GEO:-3.547797;51.210204
LOCATION:All Saints
URL:https://www.achurchnearyou.com/church/11308/service-and-events/events/
 608317/
END:VEVENT
BEGIN:VEVENT
SUMMARY:BCP Matins
DTSTART;TZID=Europe/London:20270404T110000
DTEND;TZID=Europe/London:20270404T120000
DTSTAMP:20260424T234930Z
UID:6083172027-04-04 11:00:00+01:00achurchnearyou
CATEGORIES:
DESCRIPTION:SERVICES TAKING PLACE AT LYNCH CHAPEL UNTIL PALM SUNDAY (excep
 t for Christmas morning) Book of Common Prayer Matins takes place every 1s
 t Sunday of the month
GEO:-3.547797;51.210204
LOCATION:All Saints
URL:https://www.achurchnearyou.com/church/11308/service-and-events/events/
 608317/
END:VEVENT
END:VCALENDAR
