BEGIN:VCALENDAR
VERSION:2.0
PRODID:-//achurchnearyou.com//eventfeed//EN
CALSCALE:GREGORIAN
METHOD:PUBLISH
X-WR-TIMEZONE:UTC
BEGIN:VEVENT
SUMMARY:Benefice Easter Garden
DTSTART:20260403T093000Z
DTEND:20260403T103000Z
DTSTAMP:20260424T211159Z
UID:13060722026-04-03 09:30:00+00:00achurchnearyou
CATEGORIES:
DESCRIPTION:All welcome.
LOCATION:St John the Baptist
URL:https://www.achurchnearyou.com/church/11318/service-and-events/events/
 1306072/
END:VEVENT
END:VCALENDAR
