BEGIN:VCALENDAR
VERSION:2.0
PRODID:-//achurchnearyou.com//eventfeed//EN
CALSCALE:GREGORIAN
METHOD:PUBLISH
X-WR-TIMEZONE:UTC
BEGIN:VEVENT
SUMMARY:Compline
DTSTART:20260315T200000Z
DTEND:20260315T203000Z
DTSTAMP:20260423T202333Z
UID:13075412026-03-15 20:00:00+00:00achurchnearyou
CATEGORIES:
DESCRIPTION:You are all welcome to share this ancient short service to end
  the day with peace and gratitude. In plainsong it is a delight to hear st
 ill being sung in our villages. \nCome along if you are curious\, we are f
 riendly few who meet together. During the colder months meet in the cosy N
 otley Arms Pub for Compline.
GEO:-3.326421;51.128598
LOCATION:All Saints Monksilver
URL:https://www.achurchnearyou.com/church/11335/service-and-events/events/
 1307541/
END:VEVENT
END:VCALENDAR
