BEGIN:VCALENDAR
VERSION:2.0
PRODID:-//achurchnearyou.com//eventfeed//EN
CALSCALE:GREGORIAN
METHOD:PUBLISH
X-WR-TIMEZONE:UTC
BEGIN:VEVENT
SUMMARY:Good Friday reflection
DTSTART:20250418T130000Z
DTEND:20250418T140000Z
DTSTAMP:20260419T161538Z
UID:11713922025-04-18 13:00:00+00:00achurchnearyou
CATEGORIES:
DESCRIPTION:A quiet service where we will be reflecting on the events of G
 ood Friday and the Passion of Christ.
LOCATION:St Peter's church
URL:https://www.achurchnearyou.com/church/11340/service-and-events/events/
 1171392/
END:VEVENT
END:VCALENDAR
