BEGIN:VCALENDAR
VERSION:2.0
PRODID:-//achurchnearyou.com//eventfeed//EN
CALSCALE:GREGORIAN
METHOD:PUBLISH
X-WR-TIMEZONE:UTC
BEGIN:VEVENT
SUMMARY:Easter Sunday Holy Communion
DTSTART:20260405T100000Z
DTEND:20260405T110000Z
DTSTAMP:20260424T092435Z
UID:13208312026-04-05 10:00:00+00:00achurchnearyou
CATEGORIES:
DESCRIPTION:Led by Rev David Burrell with Stogumber Church Choir
GEO:-3.29027;51.127789
LOCATION:Stogumber Church
URL:https://www.achurchnearyou.com/church/11345/service-and-events/events/
 1320831/
END:VEVENT
END:VCALENDAR
