BEGIN:VCALENDAR
VERSION:2.0
PRODID:-//achurchnearyou.com//eventfeed//EN
CALSCALE:GREGORIAN
METHOD:PUBLISH
X-WR-TIMEZONE:UTC
BEGIN:VEVENT
SUMMARY:EASTER SUNDAY SERVICE
DTSTART:20260405T083000Z
DTEND:20260405T093000Z
DTSTAMP:20260423T231644Z
UID:11692322026-04-05 08:30:00+00:00achurchnearyou
CATEGORIES:
DESCRIPTION:Holy Communion
GEO:-3.26983;51.170386
LOCATION:St Etheldreda or St Audries\, West Quantoxhead
URL:https://www.achurchnearyou.com/church/11348/service-and-events/events/
 1169232/
END:VEVENT
END:VCALENDAR
