BEGIN:VCALENDAR
VERSION:2.0
PRODID:-//achurchnearyou.com//eventfeed//EN
CALSCALE:GREGORIAN
METHOD:PUBLISH
X-WR-TIMEZONE:UTC
BEGIN:VEVENT
SUMMARY:Good Friday Reflection
DTSTART;TZID=Europe/London:20260403T190000
DTEND;TZID=Europe/London:20260403T194500
DTSTAMP:20260423T212844Z
UID:11659211775239200.0achurchnearyou
CATEGORIES:
DESCRIPTION:Tenebrae Service
GEO:-3.26983;51.170386
LOCATION:St Etheldreda or St Audries\, West Quantoxhead
URL:https://www.achurchnearyou.com/church/11348/service-and-events/events/
 1165921/
END:VEVENT
BEGIN:VEVENT
SUMMARY:EASTER SUNDAY SERVICE
DTSTART;TZID=Europe/London:20260405T093000
DTEND;TZID=Europe/London:20260405T103000
DTSTAMP:20260423T212844Z
UID:11692321775377800.0achurchnearyou
CATEGORIES:
DESCRIPTION:Holy Communion
GEO:-3.26983;51.170386
LOCATION:St Etheldreda or St Audries\, West Quantoxhead
URL:https://www.achurchnearyou.com/church/11348/service-and-events/events/
 1169232/
END:VEVENT
BEGIN:VEVENT
SUMMARY:FAMILY SERVICE
DTSTART;TZID=Europe/London:20260412T093000
DTEND;TZID=Europe/London:20260412T103000
DTSTAMP:20260423T212844Z
UID:11185941775982600.0achurchnearyou
CATEGORIES:
DESCRIPTION:We welcome everyone to this Service.
GEO:-3.26983;51.170386
LOCATION:St Etheldreda or St Audries\, West Quantoxhead
URL:https://www.achurchnearyou.com/church/11348/service-and-events/events/
 1118594/
END:VEVENT
BEGIN:VEVENT
SUMMARY:WEDDING
DTSTART;TZID=Europe/London:20260413T140000
DTEND;TZID=Europe/London:20260413T150000
DTSTAMP:20260423T212844Z
UID:11460341776085200.0achurchnearyou
CATEGORIES:
DESCRIPTION:Wedding of Helen Stentiford and Aaron Martin
GEO:-3.26983;51.170386
LOCATION:St Etheldreda or St Audries\, West Quantoxhead
URL:https://www.achurchnearyou.com/church/11348/service-and-events/events/
 1146034/
END:VEVENT
BEGIN:VEVENT
SUMMARY:HOLY COMMUNION
DTSTART;TZID=Europe/London:20260426T093000
DTEND;TZID=Europe/London:20260426T103000
DTSTAMP:20260423T212844Z
UID:10740831777192200.0achurchnearyou
CATEGORIES:
DESCRIPTION:COMMON WORSHIP
GEO:-3.26983;51.170386
LOCATION:St Etheldreda or St Audries\, West Quantoxhead
URL:https://www.achurchnearyou.com/church/11348/service-and-events/events/
 1074083/
END:VEVENT
BEGIN:VEVENT
SUMMARY:WEDDING
DTSTART;TZID=Europe/London:20260502T130000
DTEND;TZID=Europe/London:20260502T140000
DTSTAMP:20260423T212844Z
UID:12233211777723200.0achurchnearyou
CATEGORIES:
DESCRIPTION:Wedding of Elizabeth Sylva Adeeko and Michael Ratcliff
GEO:-3.26983;51.170386
LOCATION:St Etheldreda or St Audries\, West Quantoxhead
URL:https://www.achurchnearyou.com/church/11348/service-and-events/events/
 1223321/
END:VEVENT
BEGIN:VEVENT
SUMMARY:HOLY COMMUNION
DTSTART;TZID=Europe/London:20260503T093000
DTEND;TZID=Europe/London:20260503T103000
DTSTAMP:20260423T212844Z
UID:10740831777797000.0achurchnearyou
CATEGORIES:
DESCRIPTION:COMMON WORSHIP
GEO:-3.26983;51.170386
LOCATION:St Etheldreda or St Audries\, West Quantoxhead
URL:https://www.achurchnearyou.com/church/11348/service-and-events/events/
 1074083/
END:VEVENT
BEGIN:VEVENT
SUMMARY:HOLY COMMUNION FOLLOWED BY APCM
DTSTART;TZID=Europe/London:20260510T100000
DTEND;TZID=Europe/London:20260510T140000
DTSTAMP:20260423T212844Z
UID:13251621778403600.0achurchnearyou
CATEGORIES:
DESCRIPTION:Communion Service followed by refreshment break and then the c
 ombined Annual Parochial Church Meeting (Church AGM) of Bicknoller\, East 
 Quantoxhead\, Monksilver\, Sampford Brett and West Quantoxhead Parishes.\n
 Followed by a Bring and Share Lunch.
LOCATION:SAMPFORD BRETT VILLAGE HALL
URL:https://www.achurchnearyou.com/church/11348/service-and-events/events/
 1325162/
END:VEVENT
BEGIN:VEVENT
SUMMARY:HOLY COMMUNION
DTSTART;TZID=Europe/London:20260524T093000
DTEND;TZID=Europe/London:20260524T103000
DTSTAMP:20260423T212844Z
UID:10740831779611400.0achurchnearyou
CATEGORIES:
DESCRIPTION:COMMON WORSHIP
GEO:-3.26983;51.170386
LOCATION:St Etheldreda or St Audries\, West Quantoxhead
URL:https://www.achurchnearyou.com/church/11348/service-and-events/events/
 1074083/
END:VEVENT
BEGIN:VEVENT
SUMMARY:WEDDING
DTSTART;TZID=Europe/London:20260524T140000
DTEND;TZID=Europe/London:20260524T150000
DTSTAMP:20260423T212844Z
UID:11692291779627600.0achurchnearyou
CATEGORIES:
DESCRIPTION:Wedding of Kim Hastings and Benjamin Denham
GEO:-3.26983;51.170386
LOCATION:St Etheldreda or St Audries\, West Quantoxhead
URL:https://www.achurchnearyou.com/church/11348/service-and-events/events/
 1169229/
END:VEVENT
BEGIN:VEVENT
SUMMARY:HOLY COMMUNION
DTSTART;TZID=Europe/London:20260607T093000
DTEND;TZID=Europe/London:20260607T103000
DTSTAMP:20260423T212844Z
UID:10740831780821000.0achurchnearyou
CATEGORIES:
DESCRIPTION:COMMON WORSHIP
GEO:-3.26983;51.170386
LOCATION:St Etheldreda or St Audries\, West Quantoxhead
URL:https://www.achurchnearyou.com/church/11348/service-and-events/events/
 1074083/
END:VEVENT
BEGIN:VEVENT
SUMMARY:FAMILY SERVICE
DTSTART;TZID=Europe/London:20260614T093000
DTEND;TZID=Europe/London:20260614T103000
DTSTAMP:20260423T212844Z
UID:11185941781425800.0achurchnearyou
CATEGORIES:
DESCRIPTION:We welcome everyone to this Service.
GEO:-3.26983;51.170386
LOCATION:St Etheldreda or St Audries\, West Quantoxhead
URL:https://www.achurchnearyou.com/church/11348/service-and-events/events/
 1118594/
END:VEVENT
BEGIN:VEVENT
SUMMARY:HOLY COMMUNION
DTSTART;TZID=Europe/London:20260628T093000
DTEND;TZID=Europe/London:20260628T103000
DTSTAMP:20260423T212844Z
UID:10740831782635400.0achurchnearyou
CATEGORIES:
DESCRIPTION:COMMON WORSHIP
GEO:-3.26983;51.170386
LOCATION:St Etheldreda or St Audries\, West Quantoxhead
URL:https://www.achurchnearyou.com/church/11348/service-and-events/events/
 1074083/
END:VEVENT
BEGIN:VEVENT
SUMMARY:HOLY COMMUNION
DTSTART;TZID=Europe/London:20260705T093000
DTEND;TZID=Europe/London:20260705T103000
DTSTAMP:20260423T212844Z
UID:10740831783240200.0achurchnearyou
CATEGORIES:
DESCRIPTION:COMMON WORSHIP
GEO:-3.26983;51.170386
LOCATION:St Etheldreda or St Audries\, West Quantoxhead
URL:https://www.achurchnearyou.com/church/11348/service-and-events/events/
 1074083/
END:VEVENT
BEGIN:VEVENT
SUMMARY:FAMILY SERVICE
DTSTART;TZID=Europe/London:20260712T093000
DTEND;TZID=Europe/London:20260712T103000
DTSTAMP:20260423T212844Z
UID:11185941783845000.0achurchnearyou
CATEGORIES:
DESCRIPTION:We welcome everyone to this Service.
GEO:-3.26983;51.170386
LOCATION:St Etheldreda or St Audries\, West Quantoxhead
URL:https://www.achurchnearyou.com/church/11348/service-and-events/events/
 1118594/
END:VEVENT
BEGIN:VEVENT
SUMMARY:HOLY COMMUNION
DTSTART;TZID=Europe/London:20260726T093000
DTEND;TZID=Europe/London:20260726T103000
DTSTAMP:20260423T212844Z
UID:10740831785054600.0achurchnearyou
CATEGORIES:
DESCRIPTION:COMMON WORSHIP
GEO:-3.26983;51.170386
LOCATION:St Etheldreda or St Audries\, West Quantoxhead
URL:https://www.achurchnearyou.com/church/11348/service-and-events/events/
 1074083/
END:VEVENT
BEGIN:VEVENT
SUMMARY:HOLY COMMUNION
DTSTART;TZID=Europe/London:20260802T093000
DTEND;TZID=Europe/London:20260802T103000
DTSTAMP:20260423T212844Z
UID:10740831785659400.0achurchnearyou
CATEGORIES:
DESCRIPTION:COMMON WORSHIP
GEO:-3.26983;51.170386
LOCATION:St Etheldreda or St Audries\, West Quantoxhead
URL:https://www.achurchnearyou.com/church/11348/service-and-events/events/
 1074083/
END:VEVENT
BEGIN:VEVENT
SUMMARY:FAMILY SERVICE
DTSTART;TZID=Europe/London:20260809T093000
DTEND;TZID=Europe/London:20260809T103000
DTSTAMP:20260423T212844Z
UID:11185941786264200.0achurchnearyou
CATEGORIES:
DESCRIPTION:We welcome everyone to this Service.
GEO:-3.26983;51.170386
LOCATION:St Etheldreda or St Audries\, West Quantoxhead
URL:https://www.achurchnearyou.com/church/11348/service-and-events/events/
 1118594/
END:VEVENT
BEGIN:VEVENT
SUMMARY:HOLY COMMUNION
DTSTART;TZID=Europe/London:20260823T093000
DTEND;TZID=Europe/London:20260823T103000
DTSTAMP:20260423T212844Z
UID:10740831787473800.0achurchnearyou
CATEGORIES:
DESCRIPTION:COMMON WORSHIP
GEO:-3.26983;51.170386
LOCATION:St Etheldreda or St Audries\, West Quantoxhead
URL:https://www.achurchnearyou.com/church/11348/service-and-events/events/
 1074083/
END:VEVENT
BEGIN:VEVENT
SUMMARY:HOLY COMMUNION
DTSTART;TZID=Europe/London:20260906T093000
DTEND;TZID=Europe/London:20260906T103000
DTSTAMP:20260423T212844Z
UID:10740831788683400.0achurchnearyou
CATEGORIES:
DESCRIPTION:COMMON WORSHIP
GEO:-3.26983;51.170386
LOCATION:St Etheldreda or St Audries\, West Quantoxhead
URL:https://www.achurchnearyou.com/church/11348/service-and-events/events/
 1074083/
END:VEVENT
BEGIN:VEVENT
SUMMARY:FAMILY SERVICE
DTSTART;TZID=Europe/London:20260913T093000
DTEND;TZID=Europe/London:20260913T103000
DTSTAMP:20260423T212844Z
UID:11185941789288200.0achurchnearyou
CATEGORIES:
DESCRIPTION:We welcome everyone to this Service.
GEO:-3.26983;51.170386
LOCATION:St Etheldreda or St Audries\, West Quantoxhead
URL:https://www.achurchnearyou.com/church/11348/service-and-events/events/
 1118594/
END:VEVENT
BEGIN:VEVENT
SUMMARY:HOLY COMMUNION
DTSTART;TZID=Europe/London:20260927T093000
DTEND;TZID=Europe/London:20260927T103000
DTSTAMP:20260423T212844Z
UID:10740831790497800.0achurchnearyou
CATEGORIES:
DESCRIPTION:COMMON WORSHIP
GEO:-3.26983;51.170386
LOCATION:St Etheldreda or St Audries\, West Quantoxhead
URL:https://www.achurchnearyou.com/church/11348/service-and-events/events/
 1074083/
END:VEVENT
END:VCALENDAR
