BEGIN:VCALENDAR
VERSION:2.0
PRODID:-//achurchnearyou.com//eventfeed//EN
CALSCALE:GREGORIAN
METHOD:PUBLISH
X-WR-TIMEZONE:UTC
BEGIN:VEVENT
SUMMARY:Easter Day Holy Communion
DTSTART:20250420T081500Z
DTEND:20250420T093000Z
DTSTAMP:20260419T183938Z
UID:11714122025-04-20 08:15:00+00:00achurchnearyou
CATEGORIES:
DESCRIPTION:Join us on the most joyful of days in the Christian calendar w
 hen we celebrate  the Resurrection of Jesus.  Easter also celebrates the d
 efeat of death and the hope of salvation.
GEO:-3.323503;51.158496
LOCATION:St Peter's church
URL:https://www.achurchnearyou.com/church/11349/service-and-events/events/
 1171412/
END:VEVENT
END:VCALENDAR
