BEGIN:VCALENDAR
VERSION:2.0
PRODID:-//achurchnearyou.com//eventfeed//EN
CALSCALE:GREGORIAN
METHOD:PUBLISH
X-WR-TIMEZONE:UTC
BEGIN:VEVENT
SUMMARY:Good Friday Walk
DTSTART:20250418T090000Z
DTEND:20250418T141500Z
DTSTAMP:20260419T221011Z
UID:11926682025-04-18 09:00:00+00:00achurchnearyou
CATEGORIES:
DESCRIPTION:Walk around our 4 churches. Begin in Broomfield 10am\, short w
 orship in each church. Walk to Kingston for hot cross buns for 11.15am\; O
 nward to Cheddon for 1pm eat your own packed lunch\, drinks provided\; The
 n on to West Monkton for 2.30pm and a short worship. Everyone welcome to c
 ome or join in at any point.
URL:https://www.achurchnearyou.com/church/11352/service-and-events/events/
 1192668/
END:VEVENT
END:VCALENDAR
