BEGIN:VCALENDAR
VERSION:2.0
PRODID:-//achurchnearyou.com//eventfeed//EN
CALSCALE:GREGORIAN
METHOD:PUBLISH
X-WR-TIMEZONE:UTC
BEGIN:VEVENT
SUMMARY:The Room
DTSTART;TZID=Europe/London:20241201T190000
DTEND;TZID=Europe/London:20241201T200000
DTSTAMP:20260426T034441Z
UID:10073612024-12-01 19:00:00+00:00achurchnearyou
CATEGORIES:
DESCRIPTION:An informal service in our Hall\, every first Sunday evening e
 ach month.
GEO:-3.101505;51.017655
LOCATION:St James
URL:https://www.achurchnearyou.com/church/11359/service-and-events/events/
 1007361/
END:VEVENT
BEGIN:VEVENT
SUMMARY:The Room
DTSTART;TZID=Europe/London:20250105T190000
DTEND;TZID=Europe/London:20250105T200000
DTSTAMP:20260426T034441Z
UID:10073612025-01-05 19:00:00+00:00achurchnearyou
CATEGORIES:
DESCRIPTION:An informal service in our Hall\, every first Sunday evening e
 ach month.
GEO:-3.101505;51.017655
LOCATION:St James
URL:https://www.achurchnearyou.com/church/11359/service-and-events/events/
 1007361/
END:VEVENT
BEGIN:VEVENT
SUMMARY:The Room
DTSTART;TZID=Europe/London:20250202T190000
DTEND;TZID=Europe/London:20250202T200000
DTSTAMP:20260426T034441Z
UID:10073612025-02-02 19:00:00+00:00achurchnearyou
CATEGORIES:
DESCRIPTION:An informal service in our Hall\, every first Sunday evening e
 ach month.
GEO:-3.101505;51.017655
LOCATION:St James
URL:https://www.achurchnearyou.com/church/11359/service-and-events/events/
 1007361/
END:VEVENT
BEGIN:VEVENT
SUMMARY:The Room
DTSTART;TZID=Europe/London:20250302T190000
DTEND;TZID=Europe/London:20250302T200000
DTSTAMP:20260426T034441Z
UID:10073612025-03-02 19:00:00+00:00achurchnearyou
CATEGORIES:
DESCRIPTION:An informal service in our Hall\, every first Sunday evening e
 ach month.
GEO:-3.101505;51.017655
LOCATION:St James
URL:https://www.achurchnearyou.com/church/11359/service-and-events/events/
 1007361/
END:VEVENT
BEGIN:VEVENT
SUMMARY:The Room
DTSTART;TZID=Europe/London:20250406T190000
DTEND;TZID=Europe/London:20250406T200000
DTSTAMP:20260426T034441Z
UID:10073612025-04-06 19:00:00+01:00achurchnearyou
CATEGORIES:
DESCRIPTION:An informal service in our Hall\, every first Sunday evening e
 ach month.
GEO:-3.101505;51.017655
LOCATION:St James
URL:https://www.achurchnearyou.com/church/11359/service-and-events/events/
 1007361/
END:VEVENT
BEGIN:VEVENT
SUMMARY:The Room
DTSTART;TZID=Europe/London:20250504T190000
DTEND;TZID=Europe/London:20250504T200000
DTSTAMP:20260426T034441Z
UID:10073612025-05-04 19:00:00+01:00achurchnearyou
CATEGORIES:
DESCRIPTION:An informal service in our Hall\, every first Sunday evening e
 ach month.
GEO:-3.101505;51.017655
LOCATION:St James
URL:https://www.achurchnearyou.com/church/11359/service-and-events/events/
 1007361/
END:VEVENT
BEGIN:VEVENT
SUMMARY:The Room
DTSTART;TZID=Europe/London:20250601T190000
DTEND;TZID=Europe/London:20250601T200000
DTSTAMP:20260426T034441Z
UID:10073612025-06-01 19:00:00+01:00achurchnearyou
CATEGORIES:
DESCRIPTION:An informal service in our Hall\, every first Sunday evening e
 ach month.
GEO:-3.101505;51.017655
LOCATION:St James
URL:https://www.achurchnearyou.com/church/11359/service-and-events/events/
 1007361/
END:VEVENT
BEGIN:VEVENT
SUMMARY:The Room
DTSTART;TZID=Europe/London:20250706T190000
DTEND;TZID=Europe/London:20250706T200000
DTSTAMP:20260426T034441Z
UID:10073612025-07-06 19:00:00+01:00achurchnearyou
CATEGORIES:
DESCRIPTION:An informal service in our Hall\, every first Sunday evening e
 ach month.
GEO:-3.101505;51.017655
LOCATION:St James
URL:https://www.achurchnearyou.com/church/11359/service-and-events/events/
 1007361/
END:VEVENT
BEGIN:VEVENT
SUMMARY:The Room
DTSTART;TZID=Europe/London:20250803T190000
DTEND;TZID=Europe/London:20250803T200000
DTSTAMP:20260426T034441Z
UID:10073612025-08-03 19:00:00+01:00achurchnearyou
CATEGORIES:
DESCRIPTION:An informal service in our Hall\, every first Sunday evening e
 ach month.
GEO:-3.101505;51.017655
LOCATION:St James
URL:https://www.achurchnearyou.com/church/11359/service-and-events/events/
 1007361/
END:VEVENT
BEGIN:VEVENT
SUMMARY:The Room
DTSTART;TZID=Europe/London:20250907T190000
DTEND;TZID=Europe/London:20250907T200000
DTSTAMP:20260426T034441Z
UID:10073612025-09-07 19:00:00+01:00achurchnearyou
CATEGORIES:
DESCRIPTION:An informal service in our Hall\, every first Sunday evening e
 ach month.
GEO:-3.101505;51.017655
LOCATION:St James
URL:https://www.achurchnearyou.com/church/11359/service-and-events/events/
 1007361/
END:VEVENT
BEGIN:VEVENT
SUMMARY:The Room
DTSTART;TZID=Europe/London:20251005T190000
DTEND;TZID=Europe/London:20251005T200000
DTSTAMP:20260426T034441Z
UID:10073612025-10-05 19:00:00+01:00achurchnearyou
CATEGORIES:
DESCRIPTION:An informal service in our Hall\, every first Sunday evening e
 ach month.
GEO:-3.101505;51.017655
LOCATION:St James
URL:https://www.achurchnearyou.com/church/11359/service-and-events/events/
 1007361/
END:VEVENT
BEGIN:VEVENT
SUMMARY:The Room
DTSTART;TZID=Europe/London:20251102T190000
DTEND;TZID=Europe/London:20251102T200000
DTSTAMP:20260426T034441Z
UID:10073612025-11-02 19:00:00+00:00achurchnearyou
CATEGORIES:
DESCRIPTION:An informal service in our Hall\, every first Sunday evening e
 ach month.
GEO:-3.101505;51.017655
LOCATION:St James
URL:https://www.achurchnearyou.com/church/11359/service-and-events/events/
 1007361/
END:VEVENT
BEGIN:VEVENT
SUMMARY:The Room
DTSTART;TZID=Europe/London:20251207T190000
DTEND;TZID=Europe/London:20251207T200000
DTSTAMP:20260426T034441Z
UID:10073612025-12-07 19:00:00+00:00achurchnearyou
CATEGORIES:
DESCRIPTION:An informal service in our Hall\, every first Sunday evening e
 ach month.
GEO:-3.101505;51.017655
LOCATION:St James
URL:https://www.achurchnearyou.com/church/11359/service-and-events/events/
 1007361/
END:VEVENT
END:VCALENDAR
