BEGIN:VCALENDAR
VERSION:2.0
PRODID:-//achurchnearyou.com//eventfeed//EN
CALSCALE:GREGORIAN
METHOD:PUBLISH
X-WR-TIMEZONE:UTC
BEGIN:VEVENT
SUMMARY:Midday Prayer for Ash Wednesday
DTSTART:20260218T120000Z
DTEND:20260218T130000Z
DTSTAMP:20260423T210221Z
UID:12808892026-02-18 12:00:00+00:00achurchnearyou
CATEGORIES:
DESCRIPTION:Join us at St Andrew’s as we continue our Day of Prayer on A
 sh Wednesday\, with a short service of Midday Prayer\, followed by quiet p
 rayer with Taizé music. All welcome.
GEO:-2.382502;53.753349
LOCATION:St Andrew\, Accrington
URL:https://www.achurchnearyou.com/church/11417/service-and-events/events/
 1280889/
END:VEVENT
END:VCALENDAR
