BEGIN:VCALENDAR
VERSION:2.0
PRODID:-//achurchnearyou.com//eventfeed//EN
CALSCALE:GREGORIAN
METHOD:PUBLISH
X-WR-TIMEZONE:UTC
BEGIN:VEVENT
SUMMARY:Evening Prayer for Ash Wednesday
DTSTART:20260218T170000Z
DTEND:20260218T184500Z
DTSTAMP:20260423T193945Z
UID:12808912026-02-18 17:00:00+00:00achurchnearyou
CATEGORIES:
DESCRIPTION:Join us at St Andrew’s  for Evening Prayer on Ash Wednesday\
 , as we continue our Day of Prayer at the beginning of Lent. The service w
 ill be followed by prayers before the Blessed Sacrament\, leading to the E
 ucharist at 7.00 pm. All welcome!
GEO:-2.382502;53.753349
LOCATION:St Andrew\, Accrington
URL:https://www.achurchnearyou.com/church/11417/service-and-events/events/
 1280891/
END:VEVENT
END:VCALENDAR
