BEGIN:VCALENDAR
VERSION:2.0
PRODID:-//achurchnearyou.com//eventfeed//EN
CALSCALE:GREGORIAN
METHOD:PUBLISH
X-WR-TIMEZONE:UTC
BEGIN:VEVENT
SUMMARY:Hour at The Cross
DTSTART:20250418T090000Z
DTEND:20250418T100000Z
DTSTAMP:20260420T001727Z
UID:11805332025-04-18 09:00:00+00:00achurchnearyou
CATEGORIES:
DESCRIPTION:A quiet service reflecting on the death of Jesus.
GEO:-2.4587;53.68098
LOCATION:St Barnabas
URL:https://www.achurchnearyou.com/church/11449/service-and-events/events/
 1180533/
END:VEVENT
END:VCALENDAR
