BEGIN:VCALENDAR
VERSION:2.0
PRODID:-//achurchnearyou.com//eventfeed//EN
CALSCALE:GREGORIAN
METHOD:PUBLISH
X-WR-TIMEZONE:UTC
BEGIN:VEVENT
SUMMARY:321 Speak Life
DTSTART;TZID=Europe/London:20260426T180000
DTEND;TZID=Europe/London:20260426T191500
DTSTAMP:20260419T132757Z
UID:13249492026-04-26 18:00:00+01:00achurchnearyou
CATEGORIES:
DESCRIPTION:Life can be confusing\, uncertain\, busy - how do we make sens
 e of it? \n\nThe 321 Course is a chance to step back and see the bigger pi
 cture. Four short\, video-based sessions where we’ll explore the Christi
 an faith and see life according to Jesus.\n\nIt’s relaxed\, welcoming\, 
 and open to everyone - whether you’re just curious\, asking big question
 s\, or looking to reconnect with faith.\n\n📍Immanuel Church Feniscowles
  \n🗓 Starting Sunday 26th April\n🕕 6:00pm\n\nCome and discover a fre
 sh way of seeing God\, the world\, and yourself. Let us know if you're int
 erested\, you’d be very welcome!
LOCATION:Immanuel\, Feniscowles
URL:https://www.achurchnearyou.com/church/11453/service-and-events/events/
 1324949/
END:VEVENT
BEGIN:VEVENT
SUMMARY:321 Speak Life
DTSTART;TZID=Europe/London:20260503T180000
DTEND;TZID=Europe/London:20260503T191500
DTSTAMP:20260419T132757Z
UID:13249492026-05-03 18:00:00+01:00achurchnearyou
CATEGORIES:
DESCRIPTION:Life can be confusing\, uncertain\, busy - how do we make sens
 e of it? \n\nThe 321 Course is a chance to step back and see the bigger pi
 cture. Four short\, video-based sessions where we’ll explore the Christi
 an faith and see life according to Jesus.\n\nIt’s relaxed\, welcoming\, 
 and open to everyone - whether you’re just curious\, asking big question
 s\, or looking to reconnect with faith.\n\n📍Immanuel Church Feniscowles
  \n🗓 Starting Sunday 26th April\n🕕 6:00pm\n\nCome and discover a fre
 sh way of seeing God\, the world\, and yourself. Let us know if you're int
 erested\, you’d be very welcome!
LOCATION:Immanuel\, Feniscowles
URL:https://www.achurchnearyou.com/church/11453/service-and-events/events/
 1324949/
END:VEVENT
BEGIN:VEVENT
SUMMARY:321 Speak Life
DTSTART;TZID=Europe/London:20260510T180000
DTEND;TZID=Europe/London:20260510T191500
DTSTAMP:20260419T132757Z
UID:13249492026-05-10 18:00:00+01:00achurchnearyou
CATEGORIES:
DESCRIPTION:Life can be confusing\, uncertain\, busy - how do we make sens
 e of it? \n\nThe 321 Course is a chance to step back and see the bigger pi
 cture. Four short\, video-based sessions where we’ll explore the Christi
 an faith and see life according to Jesus.\n\nIt’s relaxed\, welcoming\, 
 and open to everyone - whether you’re just curious\, asking big question
 s\, or looking to reconnect with faith.\n\n📍Immanuel Church Feniscowles
  \n🗓 Starting Sunday 26th April\n🕕 6:00pm\n\nCome and discover a fre
 sh way of seeing God\, the world\, and yourself. Let us know if you're int
 erested\, you’d be very welcome!
LOCATION:Immanuel\, Feniscowles
URL:https://www.achurchnearyou.com/church/11453/service-and-events/events/
 1324949/
END:VEVENT
BEGIN:VEVENT
SUMMARY:321 Speak Life
DTSTART;TZID=Europe/London:20260517T180000
DTEND;TZID=Europe/London:20260517T191500
DTSTAMP:20260419T132757Z
UID:13249492026-05-17 18:00:00+01:00achurchnearyou
CATEGORIES:
DESCRIPTION:Life can be confusing\, uncertain\, busy - how do we make sens
 e of it? \n\nThe 321 Course is a chance to step back and see the bigger pi
 cture. Four short\, video-based sessions where we’ll explore the Christi
 an faith and see life according to Jesus.\n\nIt’s relaxed\, welcoming\, 
 and open to everyone - whether you’re just curious\, asking big question
 s\, or looking to reconnect with faith.\n\n📍Immanuel Church Feniscowles
  \n🗓 Starting Sunday 26th April\n🕕 6:00pm\n\nCome and discover a fre
 sh way of seeing God\, the world\, and yourself. Let us know if you're int
 erested\, you’d be very welcome!
LOCATION:Immanuel\, Feniscowles
URL:https://www.achurchnearyou.com/church/11453/service-and-events/events/
 1324949/
END:VEVENT
END:VCALENDAR
