BEGIN:VCALENDAR
VERSION:2.0
PRODID:-//achurchnearyou.com//eventfeed//EN
CALSCALE:GREGORIAN
METHOD:PUBLISH
X-WR-TIMEZONE:UTC
BEGIN:VEVENT
SUMMARY:Memorial Service
DTSTART:20251102T160000Z
DTEND:20251102T170000Z
DTSTAMP:20260423T182538Z
UID:12317372025-11-02 16:00:00+00:00achurchnearyou
CATEGORIES:
DESCRIPTION:A service of remembrance and thanksgiving to remember loved on
 es we have lost.
GEO:-2.540814;53.726808
LOCATION:Immanuel\, Feniscowles
URL:https://www.achurchnearyou.com/church/11454/service-and-events/events/
 1231737/
END:VEVENT
END:VCALENDAR
