BEGIN:VCALENDAR
VERSION:2.0
PRODID:-//achurchnearyou.com//eventfeed//EN
CALSCALE:GREGORIAN
METHOD:PUBLISH
X-WR-TIMEZONE:UTC
BEGIN:VEVENT
SUMMARY:Remembrance Sunday
DTSTART:20251109T100000Z
DTEND:20251109T113000Z
DTSTAMP:20260423T213217Z
UID:12317382025-11-09 10:00:00+00:00achurchnearyou
CATEGORIES:
DESCRIPTION:Join us at Immanuel Church for a special Remembrance Sunday se
 rvice.
GEO:-2.540814;53.726808
LOCATION:Immanuel\, Feniscowles
URL:https://www.achurchnearyou.com/church/11454/service-and-events/events/
 1231738/
END:VEVENT
END:VCALENDAR
