BEGIN:VCALENDAR
VERSION:2.0
PRODID:-//achurchnearyou.com//eventfeed//EN
CALSCALE:GREGORIAN
METHOD:PUBLISH
X-WR-TIMEZONE:UTC
BEGIN:VEVENT
SUMMARY:Let's Do Lunch
DTSTART;TZID=Europe/London:20260422T123000
DTEND;TZID=Europe/London:20260422T140000
DTSTAMP:20260422T082111Z
UID:9666122026-04-22 12:30:00+01:00achurchnearyou
CATEGORIES:
DESCRIPTION:You are invited to a two-course home-cooked meal. It's on the 
 house\, donations welcome\, and certainly not essential.\nAll welcome!
GEO:-2.232427;53.782469
LOCATION:St Stephen's  Burnleywood Burnley Lancashire
URL:https://www.achurchnearyou.com/church/11465/service-and-events/events/
 966612/
END:VEVENT
BEGIN:VEVENT
SUMMARY:Let's Do Lunch
DTSTART;TZID=Europe/London:20260513T123000
DTEND;TZID=Europe/London:20260513T140000
DTSTAMP:20260422T082111Z
UID:9666122026-05-13 12:30:00+01:00achurchnearyou
CATEGORIES:
DESCRIPTION:You are invited to a two-course home-cooked meal. It's on the 
 house\, donations welcome\, and certainly not essential.\nAll welcome!
GEO:-2.232427;53.782469
LOCATION:St Stephen's  Burnleywood Burnley Lancashire
URL:https://www.achurchnearyou.com/church/11465/service-and-events/events/
 966612/
END:VEVENT
BEGIN:VEVENT
SUMMARY:Let's Do Lunch
DTSTART;TZID=Europe/London:20260527T123000
DTEND;TZID=Europe/London:20260527T140000
DTSTAMP:20260422T082111Z
UID:9666122026-05-27 12:30:00+01:00achurchnearyou
CATEGORIES:
DESCRIPTION:You are invited to a two-course home-cooked meal. It's on the 
 house\, donations welcome\, and certainly not essential.\nAll welcome!
GEO:-2.232427;53.782469
LOCATION:St Stephen's  Burnleywood Burnley Lancashire
URL:https://www.achurchnearyou.com/church/11465/service-and-events/events/
 966612/
END:VEVENT
BEGIN:VEVENT
SUMMARY:Let's Do Lunch
DTSTART;TZID=Europe/London:20260610T123000
DTEND;TZID=Europe/London:20260610T140000
DTSTAMP:20260422T082111Z
UID:9666122026-06-10 12:30:00+01:00achurchnearyou
CATEGORIES:
DESCRIPTION:You are invited to a two-course home-cooked meal. It's on the 
 house\, donations welcome\, and certainly not essential.\nAll welcome!
GEO:-2.232427;53.782469
LOCATION:St Stephen's  Burnleywood Burnley Lancashire
URL:https://www.achurchnearyou.com/church/11465/service-and-events/events/
 966612/
END:VEVENT
BEGIN:VEVENT
SUMMARY:Let's Do Lunch
DTSTART;TZID=Europe/London:20260624T123000
DTEND;TZID=Europe/London:20260624T140000
DTSTAMP:20260422T082111Z
UID:9666122026-06-24 12:30:00+01:00achurchnearyou
CATEGORIES:
DESCRIPTION:You are invited to a two-course home-cooked meal. It's on the 
 house\, donations welcome\, and certainly not essential.\nAll welcome!
GEO:-2.232427;53.782469
LOCATION:St Stephen's  Burnleywood Burnley Lancashire
URL:https://www.achurchnearyou.com/church/11465/service-and-events/events/
 966612/
END:VEVENT
BEGIN:VEVENT
SUMMARY:Let's Do Lunch
DTSTART;TZID=Europe/London:20260708T123000
DTEND;TZID=Europe/London:20260708T140000
DTSTAMP:20260422T082111Z
UID:9666122026-07-08 12:30:00+01:00achurchnearyou
CATEGORIES:
DESCRIPTION:You are invited to a two-course home-cooked meal. It's on the 
 house\, donations welcome\, and certainly not essential.\nAll welcome!
GEO:-2.232427;53.782469
LOCATION:St Stephen's  Burnleywood Burnley Lancashire
URL:https://www.achurchnearyou.com/church/11465/service-and-events/events/
 966612/
END:VEVENT
BEGIN:VEVENT
SUMMARY:Let's Do Lunch
DTSTART;TZID=Europe/London:20260722T123000
DTEND;TZID=Europe/London:20260722T140000
DTSTAMP:20260422T082111Z
UID:9666122026-07-22 12:30:00+01:00achurchnearyou
CATEGORIES:
DESCRIPTION:You are invited to a two-course home-cooked meal. It's on the 
 house\, donations welcome\, and certainly not essential.\nAll welcome!
GEO:-2.232427;53.782469
LOCATION:St Stephen's  Burnleywood Burnley Lancashire
URL:https://www.achurchnearyou.com/church/11465/service-and-events/events/
 966612/
END:VEVENT
BEGIN:VEVENT
SUMMARY:Let's Do Lunch
DTSTART;TZID=Europe/London:20260812T123000
DTEND;TZID=Europe/London:20260812T140000
DTSTAMP:20260422T082111Z
UID:9666122026-08-12 12:30:00+01:00achurchnearyou
CATEGORIES:
DESCRIPTION:You are invited to a two-course home-cooked meal. It's on the 
 house\, donations welcome\, and certainly not essential.\nAll welcome!
GEO:-2.232427;53.782469
LOCATION:St Stephen's  Burnleywood Burnley Lancashire
URL:https://www.achurchnearyou.com/church/11465/service-and-events/events/
 966612/
END:VEVENT
BEGIN:VEVENT
SUMMARY:Let's Do Lunch
DTSTART;TZID=Europe/London:20260826T123000
DTEND;TZID=Europe/London:20260826T140000
DTSTAMP:20260422T082111Z
UID:9666122026-08-26 12:30:00+01:00achurchnearyou
CATEGORIES:
DESCRIPTION:You are invited to a two-course home-cooked meal. It's on the 
 house\, donations welcome\, and certainly not essential.\nAll welcome!
GEO:-2.232427;53.782469
LOCATION:St Stephen's  Burnleywood Burnley Lancashire
URL:https://www.achurchnearyou.com/church/11465/service-and-events/events/
 966612/
END:VEVENT
BEGIN:VEVENT
SUMMARY:Let's Do Lunch
DTSTART;TZID=Europe/London:20260909T123000
DTEND;TZID=Europe/London:20260909T140000
DTSTAMP:20260422T082111Z
UID:9666122026-09-09 12:30:00+01:00achurchnearyou
CATEGORIES:
DESCRIPTION:You are invited to a two-course home-cooked meal. It's on the 
 house\, donations welcome\, and certainly not essential.\nAll welcome!
GEO:-2.232427;53.782469
LOCATION:St Stephen's  Burnleywood Burnley Lancashire
URL:https://www.achurchnearyou.com/church/11465/service-and-events/events/
 966612/
END:VEVENT
BEGIN:VEVENT
SUMMARY:Let's Do Lunch
DTSTART;TZID=Europe/London:20260923T123000
DTEND;TZID=Europe/London:20260923T140000
DTSTAMP:20260422T082111Z
UID:9666122026-09-23 12:30:00+01:00achurchnearyou
CATEGORIES:
DESCRIPTION:You are invited to a two-course home-cooked meal. It's on the 
 house\, donations welcome\, and certainly not essential.\nAll welcome!
GEO:-2.232427;53.782469
LOCATION:St Stephen's  Burnleywood Burnley Lancashire
URL:https://www.achurchnearyou.com/church/11465/service-and-events/events/
 966612/
END:VEVENT
BEGIN:VEVENT
SUMMARY:Let's Do Lunch
DTSTART;TZID=Europe/London:20261014T123000
DTEND;TZID=Europe/London:20261014T140000
DTSTAMP:20260422T082111Z
UID:9666122026-10-14 12:30:00+01:00achurchnearyou
CATEGORIES:
DESCRIPTION:You are invited to a two-course home-cooked meal. It's on the 
 house\, donations welcome\, and certainly not essential.\nAll welcome!
GEO:-2.232427;53.782469
LOCATION:St Stephen's  Burnleywood Burnley Lancashire
URL:https://www.achurchnearyou.com/church/11465/service-and-events/events/
 966612/
END:VEVENT
BEGIN:VEVENT
SUMMARY:Let's Do Lunch
DTSTART;TZID=Europe/London:20261028T123000
DTEND;TZID=Europe/London:20261028T140000
DTSTAMP:20260422T082111Z
UID:9666122026-10-28 12:30:00+00:00achurchnearyou
CATEGORIES:
DESCRIPTION:You are invited to a two-course home-cooked meal. It's on the 
 house\, donations welcome\, and certainly not essential.\nAll welcome!
GEO:-2.232427;53.782469
LOCATION:St Stephen's  Burnleywood Burnley Lancashire
URL:https://www.achurchnearyou.com/church/11465/service-and-events/events/
 966612/
END:VEVENT
BEGIN:VEVENT
SUMMARY:Let's Do Lunch
DTSTART;TZID=Europe/London:20261111T123000
DTEND;TZID=Europe/London:20261111T140000
DTSTAMP:20260422T082111Z
UID:9666122026-11-11 12:30:00+00:00achurchnearyou
CATEGORIES:
DESCRIPTION:You are invited to a two-course home-cooked meal. It's on the 
 house\, donations welcome\, and certainly not essential.\nAll welcome!
GEO:-2.232427;53.782469
LOCATION:St Stephen's  Burnleywood Burnley Lancashire
URL:https://www.achurchnearyou.com/church/11465/service-and-events/events/
 966612/
END:VEVENT
BEGIN:VEVENT
SUMMARY:Let's Do Lunch
DTSTART;TZID=Europe/London:20261125T123000
DTEND;TZID=Europe/London:20261125T140000
DTSTAMP:20260422T082111Z
UID:9666122026-11-25 12:30:00+00:00achurchnearyou
CATEGORIES:
DESCRIPTION:You are invited to a two-course home-cooked meal. It's on the 
 house\, donations welcome\, and certainly not essential.\nAll welcome!
GEO:-2.232427;53.782469
LOCATION:St Stephen's  Burnleywood Burnley Lancashire
URL:https://www.achurchnearyou.com/church/11465/service-and-events/events/
 966612/
END:VEVENT
BEGIN:VEVENT
SUMMARY:Let's Do Lunch
DTSTART;TZID=Europe/London:20261209T123000
DTEND;TZID=Europe/London:20261209T140000
DTSTAMP:20260422T082111Z
UID:9666122026-12-09 12:30:00+00:00achurchnearyou
CATEGORIES:
DESCRIPTION:You are invited to a two-course home-cooked meal. It's on the 
 house\, donations welcome\, and certainly not essential.\nAll welcome!
GEO:-2.232427;53.782469
LOCATION:St Stephen's  Burnleywood Burnley Lancashire
URL:https://www.achurchnearyou.com/church/11465/service-and-events/events/
 966612/
END:VEVENT
BEGIN:VEVENT
SUMMARY:Let's Do Lunch
DTSTART;TZID=Europe/London:20261223T123000
DTEND;TZID=Europe/London:20261223T140000
DTSTAMP:20260422T082111Z
UID:9666122026-12-23 12:30:00+00:00achurchnearyou
CATEGORIES:
DESCRIPTION:You are invited to a two-course home-cooked meal. It's on the 
 house\, donations welcome\, and certainly not essential.\nAll welcome!
GEO:-2.232427;53.782469
LOCATION:St Stephen's  Burnleywood Burnley Lancashire
URL:https://www.achurchnearyou.com/church/11465/service-and-events/events/
 966612/
END:VEVENT
BEGIN:VEVENT
SUMMARY:Let's Do Lunch
DTSTART;TZID=Europe/London:20270113T123000
DTEND;TZID=Europe/London:20270113T140000
DTSTAMP:20260422T082111Z
UID:9666122027-01-13 12:30:00+00:00achurchnearyou
CATEGORIES:
DESCRIPTION:You are invited to a two-course home-cooked meal. It's on the 
 house\, donations welcome\, and certainly not essential.\nAll welcome!
GEO:-2.232427;53.782469
LOCATION:St Stephen's  Burnleywood Burnley Lancashire
URL:https://www.achurchnearyou.com/church/11465/service-and-events/events/
 966612/
END:VEVENT
BEGIN:VEVENT
SUMMARY:Let's Do Lunch
DTSTART;TZID=Europe/London:20270127T123000
DTEND;TZID=Europe/London:20270127T140000
DTSTAMP:20260422T082111Z
UID:9666122027-01-27 12:30:00+00:00achurchnearyou
CATEGORIES:
DESCRIPTION:You are invited to a two-course home-cooked meal. It's on the 
 house\, donations welcome\, and certainly not essential.\nAll welcome!
GEO:-2.232427;53.782469
LOCATION:St Stephen's  Burnleywood Burnley Lancashire
URL:https://www.achurchnearyou.com/church/11465/service-and-events/events/
 966612/
END:VEVENT
BEGIN:VEVENT
SUMMARY:Let's Do Lunch
DTSTART;TZID=Europe/London:20270210T123000
DTEND;TZID=Europe/London:20270210T140000
DTSTAMP:20260422T082111Z
UID:9666122027-02-10 12:30:00+00:00achurchnearyou
CATEGORIES:
DESCRIPTION:You are invited to a two-course home-cooked meal. It's on the 
 house\, donations welcome\, and certainly not essential.\nAll welcome!
GEO:-2.232427;53.782469
LOCATION:St Stephen's  Burnleywood Burnley Lancashire
URL:https://www.achurchnearyou.com/church/11465/service-and-events/events/
 966612/
END:VEVENT
BEGIN:VEVENT
SUMMARY:Let's Do Lunch
DTSTART;TZID=Europe/London:20270224T123000
DTEND;TZID=Europe/London:20270224T140000
DTSTAMP:20260422T082111Z
UID:9666122027-02-24 12:30:00+00:00achurchnearyou
CATEGORIES:
DESCRIPTION:You are invited to a two-course home-cooked meal. It's on the 
 house\, donations welcome\, and certainly not essential.\nAll welcome!
GEO:-2.232427;53.782469
LOCATION:St Stephen's  Burnleywood Burnley Lancashire
URL:https://www.achurchnearyou.com/church/11465/service-and-events/events/
 966612/
END:VEVENT
BEGIN:VEVENT
SUMMARY:Let's Do Lunch
DTSTART;TZID=Europe/London:20270310T123000
DTEND;TZID=Europe/London:20270310T140000
DTSTAMP:20260422T082111Z
UID:9666122027-03-10 12:30:00+00:00achurchnearyou
CATEGORIES:
DESCRIPTION:You are invited to a two-course home-cooked meal. It's on the 
 house\, donations welcome\, and certainly not essential.\nAll welcome!
GEO:-2.232427;53.782469
LOCATION:St Stephen's  Burnleywood Burnley Lancashire
URL:https://www.achurchnearyou.com/church/11465/service-and-events/events/
 966612/
END:VEVENT
BEGIN:VEVENT
SUMMARY:Let's Do Lunch
DTSTART;TZID=Europe/London:20270324T123000
DTEND;TZID=Europe/London:20270324T140000
DTSTAMP:20260422T082111Z
UID:9666122027-03-24 12:30:00+00:00achurchnearyou
CATEGORIES:
DESCRIPTION:You are invited to a two-course home-cooked meal. It's on the 
 house\, donations welcome\, and certainly not essential.\nAll welcome!
GEO:-2.232427;53.782469
LOCATION:St Stephen's  Burnleywood Burnley Lancashire
URL:https://www.achurchnearyou.com/church/11465/service-and-events/events/
 966612/
END:VEVENT
BEGIN:VEVENT
SUMMARY:Let's Do Lunch
DTSTART;TZID=Europe/London:20270414T123000
DTEND;TZID=Europe/London:20270414T140000
DTSTAMP:20260422T082111Z
UID:9666122027-04-14 12:30:00+01:00achurchnearyou
CATEGORIES:
DESCRIPTION:You are invited to a two-course home-cooked meal. It's on the 
 house\, donations welcome\, and certainly not essential.\nAll welcome!
GEO:-2.232427;53.782469
LOCATION:St Stephen's  Burnleywood Burnley Lancashire
URL:https://www.achurchnearyou.com/church/11465/service-and-events/events/
 966612/
END:VEVENT
END:VCALENDAR
