BEGIN:VCALENDAR
VERSION:2.0
PRODID:-//achurchnearyou.com//eventfeed//EN
CALSCALE:GREGORIAN
METHOD:PUBLISH
X-WR-TIMEZONE:UTC
BEGIN:VEVENT
SUMMARY:Reconnecting With Faith Confirmation Classes\, Thursdays 6.30pm.
DTSTART;TZID=Europe/London:20250306T183000
DTEND;TZID=Europe/London:20250306T200000
DTSTAMP:20260421T052630Z
UID:11516522025-03-06 18:30:00+00:00achurchnearyou
CATEGORIES:
DESCRIPTION:Confirmation Classes for years 6 and above will start on Thurs
 day 6th March at 6.30pm. \n\nThis year our Lenten course will be combined 
 with the first four preparatory sessions for adult confirmation\, offering
  a chance to refresh foundational understanding and explore the core tenet
 s of Christianity. Whether you're looking to reconnect with the basics\, o
 r simply curious to explore the Christian faith in a supportive environmen
 t\, these sessions are for you. We'll delve into essential questions and t
 opics together:\nThe Gift of Faith - Thursday\, March 6th\nWho Is Jesus? -
  Thursday\, March 13th\nWho Is the Holy Spirit? - Thursday\, March 20th\nE
 xploring the Bible - Thursday\, March 27th\nAll are welcome.
GEO:-2.608795;53.713431
LOCATION:Brindle St James
URL:https://www.achurchnearyou.com/church/11478/service-and-events/events/
 1151652/
END:VEVENT
BEGIN:VEVENT
SUMMARY:Reconnecting With Faith Confirmation Classes\, Thursdays 6.30pm.
DTSTART;TZID=Europe/London:20250313T183000
DTEND;TZID=Europe/London:20250313T200000
DTSTAMP:20260421T052630Z
UID:11516522025-03-13 18:30:00+00:00achurchnearyou
CATEGORIES:
DESCRIPTION:Confirmation Classes for years 6 and above will start on Thurs
 day 6th March at 6.30pm. \n\nThis year our Lenten course will be combined 
 with the first four preparatory sessions for adult confirmation\, offering
  a chance to refresh foundational understanding and explore the core tenet
 s of Christianity. Whether you're looking to reconnect with the basics\, o
 r simply curious to explore the Christian faith in a supportive environmen
 t\, these sessions are for you. We'll delve into essential questions and t
 opics together:\nThe Gift of Faith - Thursday\, March 6th\nWho Is Jesus? -
  Thursday\, March 13th\nWho Is the Holy Spirit? - Thursday\, March 20th\nE
 xploring the Bible - Thursday\, March 27th\nAll are welcome.
GEO:-2.608795;53.713431
LOCATION:Brindle St James
URL:https://www.achurchnearyou.com/church/11478/service-and-events/events/
 1151652/
END:VEVENT
BEGIN:VEVENT
SUMMARY:Reconnecting With Faith Confirmation Classes\, Thursdays 6.30pm.
DTSTART;TZID=Europe/London:20250320T183000
DTEND;TZID=Europe/London:20250320T200000
DTSTAMP:20260421T052630Z
UID:11516522025-03-20 18:30:00+00:00achurchnearyou
CATEGORIES:
DESCRIPTION:Confirmation Classes for years 6 and above will start on Thurs
 day 6th March at 6.30pm. \n\nThis year our Lenten course will be combined 
 with the first four preparatory sessions for adult confirmation\, offering
  a chance to refresh foundational understanding and explore the core tenet
 s of Christianity. Whether you're looking to reconnect with the basics\, o
 r simply curious to explore the Christian faith in a supportive environmen
 t\, these sessions are for you. We'll delve into essential questions and t
 opics together:\nThe Gift of Faith - Thursday\, March 6th\nWho Is Jesus? -
  Thursday\, March 13th\nWho Is the Holy Spirit? - Thursday\, March 20th\nE
 xploring the Bible - Thursday\, March 27th\nAll are welcome.
GEO:-2.608795;53.713431
LOCATION:Brindle St James
URL:https://www.achurchnearyou.com/church/11478/service-and-events/events/
 1151652/
END:VEVENT
BEGIN:VEVENT
SUMMARY:Reconnecting With Faith Confirmation Classes\, Thursdays 6.30pm.
DTSTART;TZID=Europe/London:20250327T183000
DTEND;TZID=Europe/London:20250327T200000
DTSTAMP:20260421T052630Z
UID:11516522025-03-27 18:30:00+00:00achurchnearyou
CATEGORIES:
DESCRIPTION:Confirmation Classes for years 6 and above will start on Thurs
 day 6th March at 6.30pm. \n\nThis year our Lenten course will be combined 
 with the first four preparatory sessions for adult confirmation\, offering
  a chance to refresh foundational understanding and explore the core tenet
 s of Christianity. Whether you're looking to reconnect with the basics\, o
 r simply curious to explore the Christian faith in a supportive environmen
 t\, these sessions are for you. We'll delve into essential questions and t
 opics together:\nThe Gift of Faith - Thursday\, March 6th\nWho Is Jesus? -
  Thursday\, March 13th\nWho Is the Holy Spirit? - Thursday\, March 20th\nE
 xploring the Bible - Thursday\, March 27th\nAll are welcome.
GEO:-2.608795;53.713431
LOCATION:Brindle St James
URL:https://www.achurchnearyou.com/church/11478/service-and-events/events/
 1151652/
END:VEVENT
BEGIN:VEVENT
SUMMARY:Reconnecting With Faith Confirmation Classes\, Thursdays 6.30pm.
DTSTART;TZID=Europe/London:20250403T183000
DTEND;TZID=Europe/London:20250403T200000
DTSTAMP:20260421T052630Z
UID:11516522025-04-03 18:30:00+01:00achurchnearyou
CATEGORIES:
DESCRIPTION:Confirmation Classes for years 6 and above will start on Thurs
 day 6th March at 6.30pm. \n\nThis year our Lenten course will be combined 
 with the first four preparatory sessions for adult confirmation\, offering
  a chance to refresh foundational understanding and explore the core tenet
 s of Christianity. Whether you're looking to reconnect with the basics\, o
 r simply curious to explore the Christian faith in a supportive environmen
 t\, these sessions are for you. We'll delve into essential questions and t
 opics together:\nThe Gift of Faith - Thursday\, March 6th\nWho Is Jesus? -
  Thursday\, March 13th\nWho Is the Holy Spirit? - Thursday\, March 20th\nE
 xploring the Bible - Thursday\, March 27th\nAll are welcome.
GEO:-2.608795;53.713431
LOCATION:Brindle St James
URL:https://www.achurchnearyou.com/church/11478/service-and-events/events/
 1151652/
END:VEVENT
BEGIN:VEVENT
SUMMARY:Reconnecting With Faith Confirmation Classes\, Thursdays 6.30pm.
DTSTART;TZID=Europe/London:20250410T183000
DTEND;TZID=Europe/London:20250410T200000
DTSTAMP:20260421T052630Z
UID:11516522025-04-10 18:30:00+01:00achurchnearyou
CATEGORIES:
DESCRIPTION:Confirmation Classes for years 6 and above will start on Thurs
 day 6th March at 6.30pm. \n\nThis year our Lenten course will be combined 
 with the first four preparatory sessions for adult confirmation\, offering
  a chance to refresh foundational understanding and explore the core tenet
 s of Christianity. Whether you're looking to reconnect with the basics\, o
 r simply curious to explore the Christian faith in a supportive environmen
 t\, these sessions are for you. We'll delve into essential questions and t
 opics together:\nThe Gift of Faith - Thursday\, March 6th\nWho Is Jesus? -
  Thursday\, March 13th\nWho Is the Holy Spirit? - Thursday\, March 20th\nE
 xploring the Bible - Thursday\, March 27th\nAll are welcome.
GEO:-2.608795;53.713431
LOCATION:Brindle St James
URL:https://www.achurchnearyou.com/church/11478/service-and-events/events/
 1151652/
END:VEVENT
BEGIN:VEVENT
SUMMARY:Reconnecting With Faith Confirmation Classes\, Thursdays 6.30pm.
DTSTART;TZID=Europe/London:20250417T183000
DTEND;TZID=Europe/London:20250417T200000
DTSTAMP:20260421T052630Z
UID:11516522025-04-17 18:30:00+01:00achurchnearyou
CATEGORIES:
DESCRIPTION:Confirmation Classes for years 6 and above will start on Thurs
 day 6th March at 6.30pm. \n\nThis year our Lenten course will be combined 
 with the first four preparatory sessions for adult confirmation\, offering
  a chance to refresh foundational understanding and explore the core tenet
 s of Christianity. Whether you're looking to reconnect with the basics\, o
 r simply curious to explore the Christian faith in a supportive environmen
 t\, these sessions are for you. We'll delve into essential questions and t
 opics together:\nThe Gift of Faith - Thursday\, March 6th\nWho Is Jesus? -
  Thursday\, March 13th\nWho Is the Holy Spirit? - Thursday\, March 20th\nE
 xploring the Bible - Thursday\, March 27th\nAll are welcome.
GEO:-2.608795;53.713431
LOCATION:Brindle St James
URL:https://www.achurchnearyou.com/church/11478/service-and-events/events/
 1151652/
END:VEVENT
BEGIN:VEVENT
SUMMARY:Reconnecting With Faith Confirmation Classes\, Thursdays 6.30pm.
DTSTART;TZID=Europe/London:20250424T183000
DTEND;TZID=Europe/London:20250424T200000
DTSTAMP:20260421T052630Z
UID:11516522025-04-24 18:30:00+01:00achurchnearyou
CATEGORIES:
DESCRIPTION:Confirmation Classes for years 6 and above will start on Thurs
 day 6th March at 6.30pm. \n\nThis year our Lenten course will be combined 
 with the first four preparatory sessions for adult confirmation\, offering
  a chance to refresh foundational understanding and explore the core tenet
 s of Christianity. Whether you're looking to reconnect with the basics\, o
 r simply curious to explore the Christian faith in a supportive environmen
 t\, these sessions are for you. We'll delve into essential questions and t
 opics together:\nThe Gift of Faith - Thursday\, March 6th\nWho Is Jesus? -
  Thursday\, March 13th\nWho Is the Holy Spirit? - Thursday\, March 20th\nE
 xploring the Bible - Thursday\, March 27th\nAll are welcome.
GEO:-2.608795;53.713431
LOCATION:Brindle St James
URL:https://www.achurchnearyou.com/church/11478/service-and-events/events/
 1151652/
END:VEVENT
BEGIN:VEVENT
SUMMARY:Reconnecting With Faith Confirmation Classes\, Thursdays 6.30pm.
DTSTART;TZID=Europe/London:20250501T183000
DTEND;TZID=Europe/London:20250501T200000
DTSTAMP:20260421T052630Z
UID:11516522025-05-01 18:30:00+01:00achurchnearyou
CATEGORIES:
DESCRIPTION:Confirmation Classes for years 6 and above will start on Thurs
 day 6th March at 6.30pm. \n\nThis year our Lenten course will be combined 
 with the first four preparatory sessions for adult confirmation\, offering
  a chance to refresh foundational understanding and explore the core tenet
 s of Christianity. Whether you're looking to reconnect with the basics\, o
 r simply curious to explore the Christian faith in a supportive environmen
 t\, these sessions are for you. We'll delve into essential questions and t
 opics together:\nThe Gift of Faith - Thursday\, March 6th\nWho Is Jesus? -
  Thursday\, March 13th\nWho Is the Holy Spirit? - Thursday\, March 20th\nE
 xploring the Bible - Thursday\, March 27th\nAll are welcome.
GEO:-2.608795;53.713431
LOCATION:Brindle St James
URL:https://www.achurchnearyou.com/church/11478/service-and-events/events/
 1151652/
END:VEVENT
BEGIN:VEVENT
SUMMARY:Reconnecting With Faith Confirmation Classes\, Thursdays 6.30pm.
DTSTART;TZID=Europe/London:20250508T183000
DTEND;TZID=Europe/London:20250508T200000
DTSTAMP:20260421T052630Z
UID:11516522025-05-08 18:30:00+01:00achurchnearyou
CATEGORIES:
DESCRIPTION:Confirmation Classes for years 6 and above will start on Thurs
 day 6th March at 6.30pm. \n\nThis year our Lenten course will be combined 
 with the first four preparatory sessions for adult confirmation\, offering
  a chance to refresh foundational understanding and explore the core tenet
 s of Christianity. Whether you're looking to reconnect with the basics\, o
 r simply curious to explore the Christian faith in a supportive environmen
 t\, these sessions are for you. We'll delve into essential questions and t
 opics together:\nThe Gift of Faith - Thursday\, March 6th\nWho Is Jesus? -
  Thursday\, March 13th\nWho Is the Holy Spirit? - Thursday\, March 20th\nE
 xploring the Bible - Thursday\, March 27th\nAll are welcome.
GEO:-2.608795;53.713431
LOCATION:Brindle St James
URL:https://www.achurchnearyou.com/church/11478/service-and-events/events/
 1151652/
END:VEVENT
END:VCALENDAR
