BEGIN:VCALENDAR
VERSION:2.0
PRODID:-//achurchnearyou.com//eventfeed//EN
CALSCALE:GREGORIAN
METHOD:PUBLISH
X-WR-TIMEZONE:UTC
BEGIN:VEVENT
SUMMARY:Coffee Morning Wednesday 5th February from 10 - 12
DTSTART:20250205T100000Z
DTEND:20250205T120000Z
DTSTAMP:20260421T105329Z
UID:11516642025-02-05 10:00:00+00:00achurchnearyou
CATEGORIES:
DESCRIPTION:Our next coffee morning in church will be on Wednesday 5th Feb
 ruary from 10 - 12. Why not join us for a friendly chat? Come on your own 
 or bring a friend. All welcome
GEO:-2.608795;53.713431
LOCATION:Brindle St James
URL:https://www.achurchnearyou.com/church/11478/service-and-events/events/
 1151664/
END:VEVENT
END:VCALENDAR
